BEGIN:VCALENDAR
VERSION:2.0
PRODID:-//Zöliakie Selbsthilfegruppe Südbayern - ECPv6.15.14//NONSGML v1.0//EN
CALSCALE:GREGORIAN
METHOD:PUBLISH
X-ORIGINAL-URL:https://zoeliakie-muenchen.de
X-WR-CALDESC:Veranstaltungen für Zöliakie Selbsthilfegruppe Südbayern
REFRESH-INTERVAL;VALUE=DURATION:PT1H
X-Robots-Tag:noindex
X-PUBLISHED-TTL:PT1H
BEGIN:VTIMEZONE
TZID:Europe/Berlin
BEGIN:DAYLIGHT
TZOFFSETFROM:+0100
TZOFFSETTO:+0200
TZNAME:CEST
DTSTART:20210328T010000
END:DAYLIGHT
BEGIN:STANDARD
TZOFFSETFROM:+0200
TZOFFSETTO:+0100
TZNAME:CET
DTSTART:20211031T010000
END:STANDARD
BEGIN:DAYLIGHT
TZOFFSETFROM:+0100
TZOFFSETTO:+0200
TZNAME:CEST
DTSTART:20220327T010000
END:DAYLIGHT
BEGIN:STANDARD
TZOFFSETFROM:+0200
TZOFFSETTO:+0100
TZNAME:CET
DTSTART:20221030T010000
END:STANDARD
BEGIN:DAYLIGHT
TZOFFSETFROM:+0100
TZOFFSETTO:+0200
TZNAME:CEST
DTSTART:20230326T010000
END:DAYLIGHT
BEGIN:STANDARD
TZOFFSETFROM:+0200
TZOFFSETTO:+0100
TZNAME:CET
DTSTART:20231029T010000
END:STANDARD
END:VTIMEZONE
BEGIN:VEVENT
DTSTART;VALUE=DATE:20220305
DTEND;VALUE=DATE:20220307
DTSTAMP:20260423T193324
CREATED:20220126T190753Z
LAST-MODIFIED:20220126T191324Z
UID:2742-1646438400-1646611199@zoeliakie-muenchen.de
SUMMARY:Free From Hero Festival
DESCRIPTION:Info zum Free From Hero Festival\, bei der auch die Deutsche Zöliakie-Gesellschaft e.V. vertreten ist. Informationen und Tickets gibt es auf der homepage des Festivals. \nBeim Festival bringen wir Menschen mit Zöliakie & alle\, die auf Gluten\, Weizen & andere Lebensmittel verzichten zusammen.\nFindet Informationen & Inspiration zur glutenfreien\, pflanzenbasierten\, fructose-\, laktose- & histaminarmen Ernährung und tauscht euch Gleichgesinnten aus.\nAls Ernährungsfachkräfte seid ihr live online dabei und könnt euch mit Kolleg*Innen in eigenen Workshops austauschen.
URL:https://zoeliakie-muenchen.de/event/free-from-hero-festival-22-03-05/
LOCATION:Online
CATEGORIES:Info & Beratung
ATTACH;FMTTYPE=image/jpeg:https://zoeliakie-muenchen.de/wp-content/uploads/2022/01/Free_From_Hero_800_800-1.jpg
END:VEVENT
END:VCALENDAR