BEGIN:VCALENDAR
VERSION:2.0
PRODID:-//Zöliakie Selbsthilfegruppe Südbayern - ECPv6.15.14//NONSGML v1.0//EN
CALSCALE:GREGORIAN
METHOD:PUBLISH
X-WR-CALNAME:Zöliakie Selbsthilfegruppe Südbayern
X-ORIGINAL-URL:https://zoeliakie-muenchen.de
X-WR-CALDESC:Veranstaltungen für Zöliakie Selbsthilfegruppe Südbayern
REFRESH-INTERVAL;VALUE=DURATION:PT1H
X-Robots-Tag:noindex
X-PUBLISHED-TTL:PT1H
BEGIN:VTIMEZONE
TZID:Europe/Berlin
BEGIN:DAYLIGHT
TZOFFSETFROM:+0100
TZOFFSETTO:+0200
TZNAME:CEST
DTSTART:20210328T010000
END:DAYLIGHT
BEGIN:STANDARD
TZOFFSETFROM:+0200
TZOFFSETTO:+0100
TZNAME:CET
DTSTART:20211031T010000
END:STANDARD
BEGIN:DAYLIGHT
TZOFFSETFROM:+0100
TZOFFSETTO:+0200
TZNAME:CEST
DTSTART:20220327T010000
END:DAYLIGHT
BEGIN:STANDARD
TZOFFSETFROM:+0200
TZOFFSETTO:+0100
TZNAME:CET
DTSTART:20221030T010000
END:STANDARD
BEGIN:DAYLIGHT
TZOFFSETFROM:+0100
TZOFFSETTO:+0200
TZNAME:CEST
DTSTART:20230326T010000
END:DAYLIGHT
BEGIN:STANDARD
TZOFFSETFROM:+0200
TZOFFSETTO:+0100
TZNAME:CET
DTSTART:20231029T010000
END:STANDARD
END:VTIMEZONE
BEGIN:VEVENT
DTSTART;TZID=Europe/Berlin:20220514T100000
DTEND;TZID=Europe/Berlin:20220514T150000
DTSTAMP:20260423T163820
CREATED:20211215T212554Z
LAST-MODIFIED:20220412T175633Z
UID:2621-1652522400-1652540400@zoeliakie-muenchen.de
SUMMARY:Einen guten Umgang mit Zöliakie finden - Workshop für Grundschulkinder der 3. und 4. Klasse mit Linda Tetzlaff
DESCRIPTION:Wenn du Zöliakie hast\, denkst du vielleicht manchmal\, dass du das einzige Kind bist\, dass glutenfrei essen muss. Und immer auf das Gluten zu achten\, kann richtig schwer sein. Das geht aber nicht nur dir so! Deshalb treffen wir uns und probieren gemeinsam aus\, was hilft\, damit wir gut auf unseren Bauch mit der Zöliakie achten können. Alle Kinder und auch die Gruppenleiterin haben selber auch Zöliakie und deshalb können wir: a) ein Quiz machen\, was wir essen dürfen und was nicht. Dabei können wir voneinander lernen. b) uns gut verstehen\, wenn wir darüber reden\, wann es manchmal leicht und wann schwer ist\, Zöliakie zu  haben c) uns gegenseitig helfen\, denn wir können uns Tipps geben\, wenn wir uns erzählen\, wie wir anderen zum Beispiel sagen\, dass wir Zöliakie haben und aufpassen müssen\, was wir essen. Egal wie lange du schon Zöliakie hast oder wie gut du dich mit deiner Zöliakie verstehst\, komm dazu\, wir freuen uns auf dich! 
URL:https://zoeliakie-muenchen.de/event/zoeliakie-workshop-kinder-22-05-14/
LOCATION:LAG Selbsthilfe Bayern\, Orleansplatz 3 \, München\, LAG Selbsthilfe Bayern\, Orleansplatz 3\, München\, Deutschland
CATEGORIES:Info & Beratung,Kinder & Familien
ATTACH;FMTTYPE=image/jpeg:https://zoeliakie-muenchen.de/wp-content/uploads/2021/12/Kinder_800_800.jpg
ORGANIZER;CN="Wilma Ruhs":MAILTO:w.ruhs@zoeliakie-suedbayern.de
END:VEVENT
END:VCALENDAR