BEGIN:VCALENDAR
VERSION:2.0
PRODID:-//Zöliakie Selbsthilfegruppe Südbayern - ECPv6.15.14//NONSGML v1.0//EN
CALSCALE:GREGORIAN
METHOD:PUBLISH
X-WR-CALNAME:Zöliakie Selbsthilfegruppe Südbayern
X-ORIGINAL-URL:https://zoeliakie-muenchen.de
X-WR-CALDESC:Veranstaltungen für Zöliakie Selbsthilfegruppe Südbayern
REFRESH-INTERVAL;VALUE=DURATION:PT1H
X-Robots-Tag:noindex
X-PUBLISHED-TTL:PT1H
BEGIN:VTIMEZONE
TZID:Europe/Berlin
BEGIN:DAYLIGHT
TZOFFSETFROM:+0100
TZOFFSETTO:+0200
TZNAME:CEST
DTSTART:20210328T010000
END:DAYLIGHT
BEGIN:STANDARD
TZOFFSETFROM:+0200
TZOFFSETTO:+0100
TZNAME:CET
DTSTART:20211031T010000
END:STANDARD
BEGIN:DAYLIGHT
TZOFFSETFROM:+0100
TZOFFSETTO:+0200
TZNAME:CEST
DTSTART:20220327T010000
END:DAYLIGHT
BEGIN:STANDARD
TZOFFSETFROM:+0200
TZOFFSETTO:+0100
TZNAME:CET
DTSTART:20221030T010000
END:STANDARD
BEGIN:DAYLIGHT
TZOFFSETFROM:+0100
TZOFFSETTO:+0200
TZNAME:CEST
DTSTART:20230326T010000
END:DAYLIGHT
BEGIN:STANDARD
TZOFFSETFROM:+0200
TZOFFSETTO:+0100
TZNAME:CET
DTSTART:20231029T010000
END:STANDARD
END:VTIMEZONE
BEGIN:VEVENT
DTSTART;TZID=Europe/Berlin:20220515T100000
DTEND;TZID=Europe/Berlin:20220515T150000
DTSTAMP:20260423T163837
CREATED:20211216T152912Z
LAST-MODIFIED:20220412T175334Z
UID:2672-1652608800-1652626800@zoeliakie-muenchen.de
SUMMARY:Einen guten Umgang mit Zöliakie finden - Workshop für Teenager:innen mit Linda Tetzlaff
DESCRIPTION:Egal wie lange man schon Zöliakie hat\, ob man ein Kind ist\, Jugendlicher oder erwachsen\, Zöliakie haben und immer darauf achten müssen\, was man isst\, kann total anstrengend sein. Meinstens kennt man nicht so viele andere Zölis\, denen es genauso geht und wenn es dich manchmal frustet\, dass du nicht weißt\, was du machen oder sagen sollst\, wenn´s ums Essen und Gluten geht\, bist du absolut nicht allein! Aber du musst dich nicht alleine durchkämpfen\, es gibt viele Ideen\, wie man eine gute Zeit mit den Freunden\, in der Schule und beim Hobby haben kann und gleichzeitig auf seine Zöliakie achten kann. Wenn du dich austauschen magst\, komm zum Zöliakie-Training. Alle\, die teilnehmen – auch die Trainerin – haben selbst Zöliakie\, sodass wir: a) die Situation als Zöli gut verstehen\, weil wir das alles selbst kennen b) uns über schwierige Situationen austauschen und was man dann sagen und tun kann c) uns überlegen können\, was wir in Zukunft machen wollen\, damit es uns mit der Zöliakie gut geht. Es ist nicht wichtig\, ob die Zöliakie für dich neu ist oder du schon viel darüber weißt\, wir freuen uns über jede*n\, der mit dabei ist!
URL:https://zoeliakie-muenchen.de/event/einen-guten-umgang-mit-zoeliakie-finden-workshop-fuer-teenager-22-05-15/
LOCATION:LAG Selbsthilfe Bayern\, Orleansplatz 3 \, München\, LAG Selbsthilfe Bayern\, Orleansplatz 3\, München\, Deutschland
CATEGORIES:Info & Beratung,Kinder & Familien
ATTACH;FMTTYPE=image/jpeg:https://zoeliakie-muenchen.de/wp-content/uploads/2021/12/Teenager_800_800.jpg
ORGANIZER;CN="Wilma Ruhs":MAILTO:w.ruhs@zoeliakie-suedbayern.de
END:VEVENT
END:VCALENDAR