BEGIN:VCALENDAR
VERSION:2.0
PRODID:-//Zöliakie Selbsthilfegruppe Südbayern - ECPv6.15.14//NONSGML v1.0//EN
CALSCALE:GREGORIAN
METHOD:PUBLISH
X-ORIGINAL-URL:https://zoeliakie-muenchen.de
X-WR-CALDESC:Veranstaltungen für Zöliakie Selbsthilfegruppe Südbayern
REFRESH-INTERVAL;VALUE=DURATION:PT1H
X-Robots-Tag:noindex
X-PUBLISHED-TTL:PT1H
BEGIN:VTIMEZONE
TZID:Europe/Berlin
BEGIN:DAYLIGHT
TZOFFSETFROM:+0100
TZOFFSETTO:+0200
TZNAME:CEST
DTSTART:20210328T010000
END:DAYLIGHT
BEGIN:STANDARD
TZOFFSETFROM:+0200
TZOFFSETTO:+0100
TZNAME:CET
DTSTART:20211031T010000
END:STANDARD
BEGIN:DAYLIGHT
TZOFFSETFROM:+0100
TZOFFSETTO:+0200
TZNAME:CEST
DTSTART:20220327T010000
END:DAYLIGHT
BEGIN:STANDARD
TZOFFSETFROM:+0200
TZOFFSETTO:+0100
TZNAME:CET
DTSTART:20221030T010000
END:STANDARD
BEGIN:DAYLIGHT
TZOFFSETFROM:+0100
TZOFFSETTO:+0200
TZNAME:CEST
DTSTART:20230326T010000
END:DAYLIGHT
BEGIN:STANDARD
TZOFFSETFROM:+0200
TZOFFSETTO:+0100
TZNAME:CET
DTSTART:20231029T010000
END:STANDARD
END:VTIMEZONE
BEGIN:VEVENT
DTSTART;TZID=Europe/Berlin:20220529T100000
DTEND;TZID=Europe/Berlin:20220529T160000
DTSTAMP:20260423T164008
CREATED:20211205T132656Z
LAST-MODIFIED:20220506T193736Z
UID:2267-1653818400-1653840000@zoeliakie-muenchen.de
SUMMARY:Ausflug und Stammtisch am Tegernsee für Familien
DESCRIPTION:Wir machen einen Ausflug an den Tegernsee und treffen uns dort im Strandbad zum Spielen und ggf. Planschen. Bitte Picknickdecken\, was für den kleinen Hunger und am besten ein paar Spielzeuge mitbringen Im Anschluss gehen wir gemeinsam vor Ort Pizza in der Pizzeria da Francesco essen. Bitte melde uns deine Teilnahme an\, damit wir genügend Plätze sicherstellen können. \nUngefährer Ablauf: – Individuelle Anreise– ab 10h: Treffen auf der Liegewiese am Strandbad\, gemeinsamer Austausch für die Erwachsenen und Spielen für die Kinder– ab 12.30h: Transfer zur Pizzeria (1\,5 km\, zu Fuß oder mit dem Auto)– 13h: Gemeinsames Essen in der Pizzeria (schliesst um 14.30h). Angeboten werden glutenfreie Pizzen und Pastagerichte– ab 14.30h: Gemeinsamer Rückweg zum Strandbad
URL:https://zoeliakie-muenchen.de/event/zoeliakie-stammtisch-ausflug-familien-22-05-29/
LOCATION:Ristorante da Francesco\, Hauptstrasse 9\, Tegernsee\, 83684\, Deutschland
CATEGORIES:Aktivitäten,Kinder & Familien
ATTACH;FMTTYPE=image/jpeg:https://zoeliakie-muenchen.de/wp-content/uploads/2021/12/Baden_800_800.jpg
ORGANIZER;CN="Florian Rapp":MAILTO:f.rapp@zoeliakie-suedbayern.de
END:VEVENT
END:VCALENDAR