BEGIN:VCALENDAR
VERSION:2.0
PRODID:-//Zöliakie Selbsthilfegruppe Südbayern - ECPv6.15.14//NONSGML v1.0//EN
CALSCALE:GREGORIAN
METHOD:PUBLISH
X-ORIGINAL-URL:https://zoeliakie-muenchen.de
X-WR-CALDESC:Veranstaltungen für Zöliakie Selbsthilfegruppe Südbayern
REFRESH-INTERVAL;VALUE=DURATION:PT1H
X-Robots-Tag:noindex
X-PUBLISHED-TTL:PT1H
BEGIN:VTIMEZONE
TZID:Europe/Berlin
BEGIN:DAYLIGHT
TZOFFSETFROM:+0100
TZOFFSETTO:+0200
TZNAME:CEST
DTSTART:20210328T010000
END:DAYLIGHT
BEGIN:STANDARD
TZOFFSETFROM:+0200
TZOFFSETTO:+0100
TZNAME:CET
DTSTART:20211031T010000
END:STANDARD
BEGIN:DAYLIGHT
TZOFFSETFROM:+0100
TZOFFSETTO:+0200
TZNAME:CEST
DTSTART:20220327T010000
END:DAYLIGHT
BEGIN:STANDARD
TZOFFSETFROM:+0200
TZOFFSETTO:+0100
TZNAME:CET
DTSTART:20221030T010000
END:STANDARD
BEGIN:DAYLIGHT
TZOFFSETFROM:+0100
TZOFFSETTO:+0200
TZNAME:CEST
DTSTART:20230326T010000
END:DAYLIGHT
BEGIN:STANDARD
TZOFFSETFROM:+0200
TZOFFSETTO:+0100
TZNAME:CET
DTSTART:20231029T010000
END:STANDARD
END:VTIMEZONE
BEGIN:VEVENT
DTSTART;TZID=Europe/Berlin:20220702T081500
DTEND;TZID=Europe/Berlin:20220702T200000
DTSTAMP:20260423T133449
CREATED:20220515T073504Z
LAST-MODIFIED:20220618T131332Z
UID:3035-1656749700-1656792000@zoeliakie-muenchen.de
SUMMARY:Bergwanderung mit Sommerrodeln für Teenager:innen und Familien mit Kindern ab ca. 10 Jahren
DESCRIPTION:Bergwanderung mit Talfahrt im Alpincoaster (Sommerrodelbahn). Gemeinsame Anfahrt mit der Bahn ab München Hbf. \nTreffpunkt: 8:15 Uhr Hbf München (Anfang) Gleis 28 =>  Mein Erkennungszeichen ist der Wimpel mit der durchgestrichenen Ähre in der HandAbfahrt:      8:32 Uhr mit RB 6 Richtung MurnauBitte denkt an die gesetzliche Maskenplicht in den öffentlichen Verkehrsmitteln Zugtickets bitte vorab selbst lösen (z.B. 9 Euro Ticket) \nWir wandern gemeinsam von Unterammergau (837m) in ca. 2\,5h durch die wunderschöne Schleifmühlenklamm zur Kolbensattelhütte (1270m). Auf der Kolbensattelhütte machen wir eine gemütliche Mittagspause\, dort gibt es eine kleine glutenfreie Speisekarte und einen Bergabenteuerspielplatz.Die Talfahrt ist mit dem Alpincoaster (Sommerrrodelbahn) geplant. Preis: Erwachsene 10 Euro / Kinder 7 EuroGemeinsame Rückfahrt mit dem Zug von Oberammergau nach München. Ankunft zwischen 18:00 und 20:00 Uhr.Bitte denkt an geeignete Ausrüstung (feste Schuhe\, geeignete Kleidung\, Sonnen- bzw. Regenschutz\, Verpflegung und Getränke).Weitere Details zum Ausflug könnt Ihr im Internet recherchieren oder Ihr meldet Euch bei mir. \nLiebe GrüßeWilma Ruhs0171 476 2948 
URL:https://zoeliakie-muenchen.de/event/familien-wanderung_oberammergau-220702/
LOCATION:Oberammergau\, Oberammergau\, Bayern
CATEGORIES:Aktivitäten,Kinder & Familien
ATTACH;FMTTYPE=image/jpeg:https://zoeliakie-muenchen.de/wp-content/uploads/2022/05/Wandern_800_800.jpg
ORGANIZER;CN="Wilma Ruhs":MAILTO:w.ruhs@zoeliakie-suedbayern.de
END:VEVENT
END:VCALENDAR