BEGIN:VCALENDAR
VERSION:2.0
PRODID:-//Zöliakie Selbsthilfegruppe Südbayern - ECPv6.15.14//NONSGML v1.0//EN
CALSCALE:GREGORIAN
METHOD:PUBLISH
X-WR-CALNAME:Zöliakie Selbsthilfegruppe Südbayern
X-ORIGINAL-URL:https://zoeliakie-muenchen.de
X-WR-CALDESC:Veranstaltungen für Zöliakie Selbsthilfegruppe Südbayern
REFRESH-INTERVAL;VALUE=DURATION:PT1H
X-Robots-Tag:noindex
X-PUBLISHED-TTL:PT1H
BEGIN:VTIMEZONE
TZID:Europe/Berlin
BEGIN:DAYLIGHT
TZOFFSETFROM:+0100
TZOFFSETTO:+0200
TZNAME:CEST
DTSTART:20210328T010000
END:DAYLIGHT
BEGIN:STANDARD
TZOFFSETFROM:+0200
TZOFFSETTO:+0100
TZNAME:CET
DTSTART:20211031T010000
END:STANDARD
BEGIN:DAYLIGHT
TZOFFSETFROM:+0100
TZOFFSETTO:+0200
TZNAME:CEST
DTSTART:20220327T010000
END:DAYLIGHT
BEGIN:STANDARD
TZOFFSETFROM:+0200
TZOFFSETTO:+0100
TZNAME:CET
DTSTART:20221030T010000
END:STANDARD
BEGIN:DAYLIGHT
TZOFFSETFROM:+0100
TZOFFSETTO:+0200
TZNAME:CEST
DTSTART:20230326T010000
END:DAYLIGHT
BEGIN:STANDARD
TZOFFSETFROM:+0200
TZOFFSETTO:+0100
TZNAME:CET
DTSTART:20231029T010000
END:STANDARD
END:VTIMEZONE
BEGIN:VEVENT
DTSTART;TZID=Europe/Berlin:20221029T110000
DTEND;TZID=Europe/Berlin:20221029T160000
DTSTAMP:20260423T103453
CREATED:20211203T230125Z
LAST-MODIFIED:20220712T041732Z
UID:2226-1667041200-1667059200@zoeliakie-muenchen.de
SUMMARY:Glutenfreier Brot-Backkurs mit Tanja Gruber
DESCRIPTION:Wir backen unter Anleitung von Tanja Gruber verschiedene glutenfreie Brote und können diese gleich probieren! Der Kurs findet in Kooperation mit der VHS München statt – die offizielle Buchung erfolgt über die homepage der MVHS unter der Kursnummer P383025.. \nKursbeschreibungBrot\, Brötchen\, Hefeteige und verschiedene Backwaren: dieser Kurs kommt ohne Gluten aus und ist für Zöliakie-Betroffene geeignet. Die Backwaren werden mit Standard-Mehlmischungen und eigenen Mischungen hergestellt. So können Sie einerseits die Backwaren bedenkenlos genießen\, als auch viele Tipps und Tricks zum Backen mit glutenfreien Mehlen mitnehmen. Die Kursleitung ist anerkannte Expertin für Zöliakie und bringt Ihnen alltagstaugliche Backrezepte mit\, die wir gemeinsam ausprobieren\, verkosten und mit nach Hause nehmen. In Kooperation mit der DZG Gruppe München und Südbayern \nKursgebühr39€ plus 20€ Materialgeld \n 
URL:https://zoeliakie-muenchen.de/event/glutenfreier-brot-backkurs-22-10-29/
LOCATION:VHS München – Hasenbergl (Kulturzentrum 2411)\, Blodigstrasse 4\, München\, 80933\, Deutschland
CATEGORIES:Erwachsene,Kochen & Backen
ATTACH;FMTTYPE=image/jpeg:https://zoeliakie-muenchen.de/wp-content/uploads/2021/12/Brot_800_800.jpg
ORGANIZER;CN="Florian Rapp":MAILTO:f.rapp@zoeliakie-suedbayern.de
END:VEVENT
END:VCALENDAR