BEGIN:VCALENDAR
VERSION:2.0
PRODID:-//Zöliakie Selbsthilfegruppe Südbayern - ECPv6.15.14//NONSGML v1.0//EN
CALSCALE:GREGORIAN
METHOD:PUBLISH
X-ORIGINAL-URL:https://zoeliakie-muenchen.de
X-WR-CALDESC:Veranstaltungen für Zöliakie Selbsthilfegruppe Südbayern
REFRESH-INTERVAL;VALUE=DURATION:PT1H
X-Robots-Tag:noindex
X-PUBLISHED-TTL:PT1H
BEGIN:VTIMEZONE
TZID:Europe/Berlin
BEGIN:DAYLIGHT
TZOFFSETFROM:+0100
TZOFFSETTO:+0200
TZNAME:CEST
DTSTART:20230326T010000
END:DAYLIGHT
BEGIN:STANDARD
TZOFFSETFROM:+0200
TZOFFSETTO:+0100
TZNAME:CET
DTSTART:20231029T010000
END:STANDARD
BEGIN:DAYLIGHT
TZOFFSETFROM:+0100
TZOFFSETTO:+0200
TZNAME:CEST
DTSTART:20240331T010000
END:DAYLIGHT
BEGIN:STANDARD
TZOFFSETFROM:+0200
TZOFFSETTO:+0100
TZNAME:CET
DTSTART:20241027T010000
END:STANDARD
BEGIN:DAYLIGHT
TZOFFSETFROM:+0100
TZOFFSETTO:+0200
TZNAME:CEST
DTSTART:20250330T010000
END:DAYLIGHT
BEGIN:STANDARD
TZOFFSETFROM:+0200
TZOFFSETTO:+0100
TZNAME:CET
DTSTART:20251026T010000
END:STANDARD
END:VTIMEZONE
BEGIN:VEVENT
DTSTART;TZID=Europe/Berlin:20240322T160000
DTEND;TZID=Europe/Berlin:20240322T200000
DTSTAMP:20260422T085526
CREATED:20240108T203329Z
LAST-MODIFIED:20240301T195240Z
UID:4634-1711123200-1711137600@zoeliakie-muenchen.de
SUMMARY:Glutenfreies Osterbacken
DESCRIPTION:Hasen\, Lämmer und Hefegebäck – beim glutenfreien Osterbacken bereiten wir alles für die Feiertage vor. Wir backen gemeinsam verschiedene Zopfvarianten\, Plätzchen und Kuchen. Im Anschluss gibt es zum Ausklang noch ein gemeinsames Abendessen in der Backstube. Bitte Dosen und Schürzen mitbringen. \nPreise für die Teilnahme: \n\n50€ je Familie\n20€ je Einzelperson\n\n  \nNach der Anmeldung hier auf der Seite erhaltet ihr die Informationen für die Zahlung sowie für den genauen Veranstaltungsort. Bitte beachtet\, dass wir die Kurse leider nur mit Vorkasse darstellen können.
URL:https://zoeliakie-muenchen.de/event/glutenfreies-osterbacken-240322/
LOCATION:Rottach Egern
CATEGORIES:Erwachsene,Jugendliche,Kinder & Familien,Kochen & Backen
ATTACH;FMTTYPE=image/jpeg:https://zoeliakie-muenchen.de/wp-content/uploads/2021/12/Osterbacken_800_800.jpg
ORGANIZER;CN="Florian Rapp":MAILTO:f.rapp@zoeliakie-suedbayern.de
END:VEVENT
BEGIN:VEVENT
DTSTART;TZID=Europe/Berlin:20240322T190000
DTEND;TZID=Europe/Berlin:20240322T203000
DTSTAMP:20260422T085526
CREATED:20240104T203052Z
LAST-MODIFIED:20240104T203052Z
UID:4537-1711134000-1711139400@zoeliakie-muenchen.de
SUMMARY:Online-Austausch & Beratung für Eltern
DESCRIPTION:Fragen und Antworten mit erfahrenen Kontaktpersonen und Eltern untereinander zum Umgang mit von Zöliakie betroffenen Kindern. Der Link zum Termin wird vorab an die Teilnehmer zugesendet.
URL:https://zoeliakie-muenchen.de/event/online-austausch-beratung-eltern-240322/
LOCATION:Online
CATEGORIES:Info & Beratung,Kinder & Familien
ATTACH;FMTTYPE=image/jpeg:https://zoeliakie-muenchen.de/wp-content/uploads/2021/11/Neubetroffene_online_800_800.jpg
ORGANIZER;CN="Wilma Ruhs":MAILTO:w.ruhs@zoeliakie-suedbayern.de
END:VEVENT
END:VCALENDAR