BEGIN:VCALENDAR
VERSION:2.0
PRODID:-//Zöliakie Selbsthilfegruppe Südbayern - ECPv6.15.14//NONSGML v1.0//EN
CALSCALE:GREGORIAN
METHOD:PUBLISH
X-WR-CALNAME:Zöliakie Selbsthilfegruppe Südbayern
X-ORIGINAL-URL:https://zoeliakie-muenchen.de
X-WR-CALDESC:Veranstaltungen für Zöliakie Selbsthilfegruppe Südbayern
REFRESH-INTERVAL;VALUE=DURATION:PT1H
X-Robots-Tag:noindex
X-PUBLISHED-TTL:PT1H
BEGIN:VTIMEZONE
TZID:Europe/Berlin
BEGIN:DAYLIGHT
TZOFFSETFROM:+0100
TZOFFSETTO:+0200
TZNAME:CEST
DTSTART:20240331T010000
END:DAYLIGHT
BEGIN:STANDARD
TZOFFSETFROM:+0200
TZOFFSETTO:+0100
TZNAME:CET
DTSTART:20241027T010000
END:STANDARD
BEGIN:DAYLIGHT
TZOFFSETFROM:+0100
TZOFFSETTO:+0200
TZNAME:CEST
DTSTART:20250330T010000
END:DAYLIGHT
BEGIN:STANDARD
TZOFFSETFROM:+0200
TZOFFSETTO:+0100
TZNAME:CET
DTSTART:20251026T010000
END:STANDARD
BEGIN:DAYLIGHT
TZOFFSETFROM:+0100
TZOFFSETTO:+0200
TZNAME:CEST
DTSTART:20260329T010000
END:DAYLIGHT
BEGIN:STANDARD
TZOFFSETFROM:+0200
TZOFFSETTO:+0100
TZNAME:CET
DTSTART:20261025T010000
END:STANDARD
END:VTIMEZONE
BEGIN:VEVENT
DTSTART;TZID=Europe/Berlin:20250321T150000
DTEND;TZID=Europe/Berlin:20250321T170000
DTSTAMP:20260421T120836
CREATED:20250201T204100Z
LAST-MODIFIED:20250318T195231Z
UID:5948-1742569200-1742576400@zoeliakie-muenchen.de
SUMMARY:Bäckereiführung bei Schubert
DESCRIPTION:Für alle Backfreunde haben wir uns was Besonderes einfallen lassen: Wir lassen uns bei einem Rundgang durch die Produktion in die Welt der glutenfreien Backwaren bei Schubert einführen. Im Anschluss gibt es die Möglichkeit im Café Himmelgrün einzukaufen und sich gemeinsam auszutauschen. \nAblauf: 14:45 Treffen bei der Produktion\, Am Alten Schlachthof 9\, 86153 Augsburg15:00 Produktionsrundgang durch die Bäckerei\, ~1h16:00 Austausch und Einkaufen im Café Himmelgrün (direkt neben der Produktion) \nFür den Rundgang ist Folgendes zu beachten: – bitte rutschfeste Schuhe tragen und keinen Schmuck tragen– die Führung kann erst ab 8 Teilnehmern stattfinden
URL:https://zoeliakie-muenchen.de/event/baeckereifuehrung-schubert-250321/
LOCATION:Bäckerei Schubert\, Am alten Schlachthof 9\, Augsburg\, 86153\, Germany
CATEGORIES:Aktivitäten,Erwachsene,Jugendliche,Kinder & Familien
ATTACH;FMTTYPE=image/png:https://zoeliakie-muenchen.de/wp-content/uploads/2025/02/Schubert_800_800.png
ORGANIZER;CN="Florian Rapp":MAILTO:f.rapp@zoeliakie-suedbayern.de
END:VEVENT
END:VCALENDAR