BEGIN:VCALENDAR
VERSION:2.0
PRODID:-//Zöliakie Selbsthilfegruppe Südbayern - ECPv6.15.14//NONSGML v1.0//EN
CALSCALE:GREGORIAN
METHOD:PUBLISH
X-WR-CALNAME:Zöliakie Selbsthilfegruppe Südbayern
X-ORIGINAL-URL:https://zoeliakie-muenchen.de
X-WR-CALDESC:Veranstaltungen für Zöliakie Selbsthilfegruppe Südbayern
REFRESH-INTERVAL;VALUE=DURATION:PT1H
X-Robots-Tag:noindex
X-PUBLISHED-TTL:PT1H
BEGIN:VTIMEZONE
TZID:Europe/Berlin
BEGIN:DAYLIGHT
TZOFFSETFROM:+0100
TZOFFSETTO:+0200
TZNAME:CEST
DTSTART:20240331T010000
END:DAYLIGHT
BEGIN:STANDARD
TZOFFSETFROM:+0200
TZOFFSETTO:+0100
TZNAME:CET
DTSTART:20241027T010000
END:STANDARD
BEGIN:DAYLIGHT
TZOFFSETFROM:+0100
TZOFFSETTO:+0200
TZNAME:CEST
DTSTART:20250330T010000
END:DAYLIGHT
BEGIN:STANDARD
TZOFFSETFROM:+0200
TZOFFSETTO:+0100
TZNAME:CET
DTSTART:20251026T010000
END:STANDARD
BEGIN:DAYLIGHT
TZOFFSETFROM:+0100
TZOFFSETTO:+0200
TZNAME:CEST
DTSTART:20260329T010000
END:DAYLIGHT
BEGIN:STANDARD
TZOFFSETFROM:+0200
TZOFFSETTO:+0100
TZNAME:CET
DTSTART:20261025T010000
END:STANDARD
END:VTIMEZONE
BEGIN:VEVENT
DTSTART;TZID=Europe/Berlin:20250322T093000
DTEND;TZID=Europe/Berlin:20250322T120000
DTSTAMP:20260421T142538
CREATED:20250105T084038Z
LAST-MODIFIED:20250116T143521Z
UID:5675-1742635800-1742644800@zoeliakie-muenchen.de
SUMMARY:Back- und Kochkurs rund um Ostern (für Zölis der 1.-3.Klasse)
DESCRIPTION:Bald ist Ostern und vielleicht brauchst du noch leckere\, glutenfreie Ideen für das Osterfest ? Alles rund ums glutenfreie Kochen und Backen\, und das gemeinsame Essen wollen wir zusammen erkunden und somit dieses\, vielleicht manchmal schwierige und kräftezehrende Familienthema\, auf leichte Weise angehen. \nUnser Kochmotto: Wir können allein ganz viel\, aber im Team sind wir stärker ! Alle Ziele und Inhalte dienen dem Aufbau eines Netzwerks\, der Stärkung der Gemeinschaft und dem Austausch mit gleichaltrigen Betroffenen. Eine zusammen entworfene Tischdekoration und ungezwungene Gespräche runden unseren Kurs ab. Rezepte zum Mitnehmen und leichtes Nachmachen dahiem garantiert. \nDer Kurs findet ohne Eltern statt. Bitte feste Hausschuhe und kleine Dosen für Probierreste mitbringen. \nWir freuen uns auf dich ! \nLiebe Grüße von Ivonne Stötzer\, Axel Eichenseher\, Wilma Ruhs \n  \n  \n  \n 
URL:https://zoeliakie-muenchen.de/event/glutenfreies-kochen-1-3-klasse-250322/
LOCATION:Krailling\, Auenstraße 4a\, Krailling\, 82152\, Deutschland
CATEGORIES:Info & Beratung,Kinder & Familien,Kochen & Backen
ATTACH;FMTTYPE=image/jpeg:https://zoeliakie-muenchen.de/wp-content/uploads/2022/12/Kochen_Kleinkinder_800_800.jpg
ORGANIZER;CN="Wilma Ruhs":MAILTO:w.ruhs@zoeliakie-suedbayern.de
END:VEVENT
BEGIN:VEVENT
DTSTART;TZID=Europe/Berlin:20250322T130000
DTEND;TZID=Europe/Berlin:20250322T153000
DTSTAMP:20260421T142538
CREATED:20250105T084252Z
LAST-MODIFIED:20250116T143803Z
UID:5673-1742648400-1742657400@zoeliakie-muenchen.de
SUMMARY:Back- und Kochenkurs rund um Ostern (für Zölis der 4.-6. Klasse)
DESCRIPTION:Bald ist Ostern und vielleicht brauchst du noch leckere\, glutenfreie Ideen für das Osterfest ? Alles rund ums glutenfreie Kochen und Backen\, und das gemeinsame Essen wollen wir zusammen erkunden und somit dieses\, vielleicht manchmal schwierige und kräftezehrende Familienthema\, auf leichte Weise angehen. \nUnser Kochmotto: Wir können allein ganz viel\, aber im Team sind wir stärker ! Alle Ziele und Inhalte dienen dem Aufbau eines Netzwerks\, der Stärkung der Gemeinschaft und dem Austausch mit gleichaltrigen Betroffenen. Eine zusammen entworfene Tischdekoration und ungezwungene Gespräche runden unseren Kurs ab. Rezepte zum Mitnehmen und leichtes Nachmachen dahiem garantiert. \nDer Kurs findet ohne Eltern statt ! Bitte feste Hausschuhe und kleine Dosen für Probierreste mitbringen. \nWir freuen uns auf dich ! \nLiebe Grüße von Ivonne Stötzer\, Axel Eichenseher\, Wilma Ruhs
URL:https://zoeliakie-muenchen.de/event/glutenfreies-kochen-jugendliche-4-6-klasse-250322/
LOCATION:Krailling\, Auenstraße 4a\, Krailling\, 82152\, Deutschland
CATEGORIES:Info & Beratung,Jugendliche,Kochen & Backen
ATTACH;FMTTYPE=image/jpeg:https://zoeliakie-muenchen.de/wp-content/uploads/2022/12/Kochen_Kinder_800_800.jpg
ORGANIZER;CN="Wilma Ruhs":MAILTO:w.ruhs@zoeliakie-suedbayern.de
END:VEVENT
BEGIN:VEVENT
DTSTART;TZID=Europe/Berlin:20250322T150000
DTEND;TZID=Europe/Berlin:20250322T180000
DTSTAMP:20260421T142538
CREATED:20250102T223046Z
LAST-MODIFIED:20250102T223551Z
UID:5502-1742655600-1742666400@zoeliakie-muenchen.de
SUMMARY:Bowling für Jugendliche
DESCRIPTION:Strike! Wir gehen zusammen zum Bowlen und tauschen uns dabei rund um die glutenfreie Welt aus. Treffpunkt ist im Dream Bowl Palace. Bitte melde uns deine Teilnahme an\, damit wir genügend Plätze sicherstellen können.
URL:https://zoeliakie-muenchen.de/event/bowling-fuer-jugendliche-250322/
LOCATION:Dream Bowl Palace\, Apianstraße 9\, Unterföhring\, 85774\, Germany
CATEGORIES:Aktivitäten,Jugendliche
ATTACH;FMTTYPE=image/jpeg:https://zoeliakie-muenchen.de/wp-content/uploads/2021/12/Bowling_800_800.jpg
END:VEVENT
BEGIN:VEVENT
DTSTART;TZID=Europe/Berlin:20250322T163000
DTEND;TZID=Europe/Berlin:20250322T190000
DTSTAMP:20260421T142538
CREATED:20250105T084514Z
LAST-MODIFIED:20250116T144052Z
UID:5677-1742661000-1742670000@zoeliakie-muenchen.de
SUMMARY:Back- und Kochkurs rund um Ostern (für Zölis ab 7. Klasse)
DESCRIPTION:Bald ist Ostern und vielleicht brauchst du noch leckere\, glutenfreie Ideen für das Osterfest ? Alles rund ums glutenfreie Kochen und Backen\, und das gemeinsame Essen wollen wir zusammen erkunden und somit dieses\, vielleicht manchmal schwierige und kräftezehrende Familienthema\, auf leichte Weise angehen. \nUnser Kochmotto: Wir können allein ganz viel\, aber im Team sind wir stärker ! Alle Ziele und Inhalte dienen dem Aufbau eines Netzwerks\, der Stärkung der Gemeinschaft und dem Austausch mit gleichaltrigen Betroffenen. Eine zusammen entworfene Tischdekoration und ungezwungene Gespräche runden unseren Kurs ab. Rezepte zum Mitnehmen und leichtes Nachmachen dahiem garantiert. \nDer Kurs findet ohne Eltern statt ! Bitte feste Hausschuhe und kleine Dosen für Probierreste mitbringen. \nWir freuen uns auf dich ! \nLiebe Grüße von Ivonne Stötzer\, Axel Eichenseher\, Wilma Ruhs
URL:https://zoeliakie-muenchen.de/event/glutenfreies-kochen-jugendliche-ab-7-klasse-250322/
LOCATION:Krailling\, Auenstraße 4a\, Krailling\, 82152\, Deutschland
CATEGORIES:Info & Beratung,Jugendliche,Kochen & Backen
ATTACH;FMTTYPE=image/jpeg:https://zoeliakie-muenchen.de/wp-content/uploads/2022/12/Kochen_Jugendliche_800_800.jpg
ORGANIZER;CN="Wilma Ruhs":MAILTO:w.ruhs@zoeliakie-suedbayern.de
END:VEVENT
END:VCALENDAR