BEGIN:VCALENDAR
VERSION:2.0
PRODID:-//Zöliakie Selbsthilfegruppe Südbayern - ECPv6.15.14//NONSGML v1.0//EN
CALSCALE:GREGORIAN
METHOD:PUBLISH
X-WR-CALNAME:Zöliakie Selbsthilfegruppe Südbayern
X-ORIGINAL-URL:https://zoeliakie-muenchen.de
X-WR-CALDESC:Veranstaltungen für Zöliakie Selbsthilfegruppe Südbayern
REFRESH-INTERVAL;VALUE=DURATION:PT1H
X-Robots-Tag:noindex
X-PUBLISHED-TTL:PT1H
BEGIN:VTIMEZONE
TZID:Europe/Berlin
BEGIN:DAYLIGHT
TZOFFSETFROM:+0100
TZOFFSETTO:+0200
TZNAME:CEST
DTSTART:20210328T010000
END:DAYLIGHT
BEGIN:STANDARD
TZOFFSETFROM:+0200
TZOFFSETTO:+0100
TZNAME:CET
DTSTART:20211031T010000
END:STANDARD
BEGIN:DAYLIGHT
TZOFFSETFROM:+0100
TZOFFSETTO:+0200
TZNAME:CEST
DTSTART:20220327T010000
END:DAYLIGHT
BEGIN:STANDARD
TZOFFSETFROM:+0200
TZOFFSETTO:+0100
TZNAME:CET
DTSTART:20221030T010000
END:STANDARD
BEGIN:DAYLIGHT
TZOFFSETFROM:+0100
TZOFFSETTO:+0200
TZNAME:CEST
DTSTART:20230326T010000
END:DAYLIGHT
BEGIN:STANDARD
TZOFFSETFROM:+0200
TZOFFSETTO:+0100
TZNAME:CET
DTSTART:20231029T010000
END:STANDARD
END:VTIMEZONE
BEGIN:VEVENT
DTSTART;TZID=Europe/Berlin:20220209T180000
DTEND;TZID=Europe/Berlin:20220209T210000
DTSTAMP:20260423T193207
CREATED:20211201T204833Z
LAST-MODIFIED:20211211T133212Z
UID:2143-1644429600-1644440400@zoeliakie-muenchen.de
SUMMARY:Zöliakie Stammtisch Tegernsee
DESCRIPTION:Zöliakie Stammtisch für alle Betroffenen und Angehörige im südlichen Münchner Umland und der Region Tegernsee.Bitte melde uns deine Teilnahme an\, damit wir genügend Plätze sicherstellen können.
URL:https://zoeliakie-muenchen.de/event/zoeliakie-stammtisch-tegernsee-22-02-09/
LOCATION:Restaurant Luna Rossa\, Münchner Straße 138\, Gmund\, Bayern\, 83703
CATEGORIES:Erwachsene,Stammtisch
ATTACH;FMTTYPE=image/jpeg:https://zoeliakie-muenchen.de/wp-content/uploads/2021/12/Stammtisch_800_800.jpg
ORGANIZER;CN="Christa Porer":MAILTO:info@zoeliakie-suedbayern.de
END:VEVENT
BEGIN:VEVENT
DTSTART;TZID=Europe/Berlin:20220210T180000
DTEND;TZID=Europe/Berlin:20220210T210000
DTSTAMP:20260423T193207
CREATED:20211129T215343Z
LAST-MODIFIED:20211216T154204Z
UID:2036-1644516000-1644526800@zoeliakie-muenchen.de
SUMMARY:Online-Austausch für Neubetroffene
DESCRIPTION:Online-Austausch für Neubetroffene mit Hilfestellungen zu den wichtigsten Themen rund um Ernährung\, Einkaufen\, Essen ausser Haus – und euren persönlichen Fragen.
URL:https://zoeliakie-muenchen.de/event/zoeliakie-austausch-online-neubetroffene-21-02-10/
LOCATION:Online
CATEGORIES:Erwachsene,Info & Beratung,Kinder & Familien
ATTACH;FMTTYPE=image/jpeg:https://zoeliakie-muenchen.de/wp-content/uploads/2021/11/Neubetroffene_online_800_800.jpg
ORGANIZER;CN="Dominique Stellwag":MAILTO:d.stellwag@zoeliakie-suedbayern.de
END:VEVENT
BEGIN:VEVENT
DTSTART;TZID=Europe/Berlin:20220215T180000
DTEND;TZID=Europe/Berlin:20220215T210000
DTSTAMP:20260423T193207
CREATED:20211202T212153Z
LAST-MODIFIED:20220214T193557Z
UID:2194-1644948000-1644958800@zoeliakie-muenchen.de
SUMMARY:Zöliakie Stammtisch München
DESCRIPTION:Zöliakie Stammtisch für alle Betroffenen und Angehörige in München.Bitte melde uns deine Teilnahme an\, damit wir genügend Plätze sicherstellen können.
URL:https://zoeliakie-muenchen.de/event/zoeliakie-stammtisch-muenchen-22-02-15/
LOCATION:Wirtshaus Hohenwart\, Gietlstraße 15\, München\, 81541
CATEGORIES:Erwachsene,Stammtisch
ATTACH;FMTTYPE=image/jpeg:https://zoeliakie-muenchen.de/wp-content/uploads/2021/12/Muenchen_Frauenkirche_800_800.jpg
ORGANIZER;CN="Christa Porer":MAILTO:info@zoeliakie-suedbayern.de
END:VEVENT
BEGIN:VEVENT
DTSTART;TZID=Europe/Berlin:20220220T120000
DTEND;TZID=Europe/Berlin:20220220T150000
DTSTAMP:20260423T193207
CREATED:20211205T093128Z
LAST-MODIFIED:20220215T213035Z
UID:2222-1645358400-1645369200@zoeliakie-muenchen.de
SUMMARY:Zöliakie Stammtisch für Familien
DESCRIPTION:Zöliakie Stammtisch für Familien mit betroffenen Kindern und Angehörigen. Bitte melde uns deine Teilnahme an\, damit wir genügend Plätze sicherstellen können.
URL:https://zoeliakie-muenchen.de/event/zoeliakie-stammtisch-familien-muenchen-22-02-20/
LOCATION:Pizzeria Le Vespe\, Marktplatz 21\, Neufahrn\, 85375\, Deutschland
CATEGORIES:Kinder & Familien,Stammtisch
ATTACH;FMTTYPE=image/jpeg:https://zoeliakie-muenchen.de/wp-content/uploads/2021/12/Pizza_800_800.jpg
ORGANIZER;CN="Florian Rapp":MAILTO:f.rapp@zoeliakie-suedbayern.de
END:VEVENT
BEGIN:VEVENT
DTSTART;TZID=Europe/Berlin:20220224T180000
DTEND;TZID=Europe/Berlin:20220224T210000
DTSTAMP:20260423T193207
CREATED:20211129T211825Z
LAST-MODIFIED:20211211T150443Z
UID:1993-1645725600-1645736400@zoeliakie-muenchen.de
SUMMARY:Zöliakie Stammtisch für junge Erwachsene und Erwachsene
DESCRIPTION:Zöliakie-Stammtisch in München für junge Erwachsene und Erwachsene und Angehörige.Bitte melde uns deine Teilnahme an\, damit wir genügend Plätze sicherstellen können.
URL:https://zoeliakie-muenchen.de/event/zoeliakie-stammtisch-muenchen-22-02-24/
LOCATION:Gasthof Obermaier\, Truderinger Straße 306\, München\, Bayern\, 81825\, Deutschland
CATEGORIES:Erwachsene,Stammtisch
ATTACH;FMTTYPE=image/jpeg:https://zoeliakie-muenchen.de/wp-content/uploads/2021/11/kevin-curtis-QlnUpMED6Qs-unsplash_KLEIN_800_800.jpg
ORGANIZER;CN="Dominique Stellwag":MAILTO:d.stellwag@zoeliakie-suedbayern.de
END:VEVENT
END:VCALENDAR