BEGIN:VCALENDAR
VERSION:2.0
PRODID:-//Zöliakie Selbsthilfegruppe Südbayern - ECPv6.15.14//NONSGML v1.0//EN
CALSCALE:GREGORIAN
METHOD:PUBLISH
X-WR-CALNAME:Zöliakie Selbsthilfegruppe Südbayern
X-ORIGINAL-URL:https://zoeliakie-muenchen.de
X-WR-CALDESC:Veranstaltungen für Zöliakie Selbsthilfegruppe Südbayern
REFRESH-INTERVAL;VALUE=DURATION:PT1H
X-Robots-Tag:noindex
X-PUBLISHED-TTL:PT1H
BEGIN:VTIMEZONE
TZID:Europe/Berlin
BEGIN:DAYLIGHT
TZOFFSETFROM:+0100
TZOFFSETTO:+0200
TZNAME:CEST
DTSTART:20210328T010000
END:DAYLIGHT
BEGIN:STANDARD
TZOFFSETFROM:+0200
TZOFFSETTO:+0100
TZNAME:CET
DTSTART:20211031T010000
END:STANDARD
BEGIN:DAYLIGHT
TZOFFSETFROM:+0100
TZOFFSETTO:+0200
TZNAME:CEST
DTSTART:20220327T010000
END:DAYLIGHT
BEGIN:STANDARD
TZOFFSETFROM:+0200
TZOFFSETTO:+0100
TZNAME:CET
DTSTART:20221030T010000
END:STANDARD
BEGIN:DAYLIGHT
TZOFFSETFROM:+0100
TZOFFSETTO:+0200
TZNAME:CEST
DTSTART:20230326T010000
END:DAYLIGHT
BEGIN:STANDARD
TZOFFSETFROM:+0200
TZOFFSETTO:+0100
TZNAME:CET
DTSTART:20231029T010000
END:STANDARD
END:VTIMEZONE
BEGIN:VEVENT
DTSTART;TZID=Europe/Berlin:20221109T180000
DTEND;TZID=Europe/Berlin:20221109T210000
DTSTAMP:20260423T062020
CREATED:20211201T212740Z
LAST-MODIFIED:20211211T143707Z
UID:2162-1668016800-1668027600@zoeliakie-muenchen.de
SUMMARY:Zöliakie Stammtisch Tegernsee
DESCRIPTION:Zöliakie Stammtisch für alle Betroffenen und Angehörige im südlichen Münchner Umland und der Region Tegernsee.Bitte melde uns deine Teilnahme an\, damit wir genügend Plätze sicherstellen können.
URL:https://zoeliakie-muenchen.de/event/zoeliakie-stammtisch-tegernsee-22-11-09/
LOCATION:Restaurant Luna Rossa\, Münchner Straße 138\, Gmund\, Bayern\, 83703
CATEGORIES:Erwachsene,Stammtisch
ATTACH;FMTTYPE=image/jpeg:https://zoeliakie-muenchen.de/wp-content/uploads/2021/12/Stammtisch_800_800.jpg
ORGANIZER;CN="Christa Porer":MAILTO:info@zoeliakie-suedbayern.de
END:VEVENT
BEGIN:VEVENT
DTSTART;TZID=Europe/Berlin:20221115T180000
DTEND;TZID=Europe/Berlin:20221115T210000
DTSTAMP:20260423T062020
CREATED:20211202T213110Z
LAST-MODIFIED:20221102T194441Z
UID:2190-1668535200-1668546000@zoeliakie-muenchen.de
SUMMARY:Zöliakie Stammtisch München
DESCRIPTION:Zöliakie Stammtisch für alle Betroffenen und deren Angehörige in München. Bitte melde uns deine Teilnahme an\, damit wir genügend Plätze sicherstellen können.
URL:https://zoeliakie-muenchen.de/event/zoeliakie-stammtisch-muenchen-22-11-15/
LOCATION:Senso Ristorante\, Implerstraße 90\, München\, 81371\, Deutschland
CATEGORIES:Erwachsene,Stammtisch
ATTACH;FMTTYPE=image/jpeg:https://zoeliakie-muenchen.de/wp-content/uploads/2021/12/Muenchen_Frauenkirche_800_800.jpg
ORGANIZER;CN="Christa Porer":MAILTO:info@zoeliakie-suedbayern.de
END:VEVENT
BEGIN:VEVENT
DTSTART;TZID=Europe/Berlin:20221119T100000
DTEND;TZID=Europe/Berlin:20221119T150000
DTSTAMP:20260423T062020
CREATED:20220515T074614Z
LAST-MODIFIED:20221017T141004Z
UID:3039-1668852000-1668870000@zoeliakie-muenchen.de
SUMMARY:Zöli-Tipps und -Tricks:"Wie komme ich stark durch meinen Alltag!" - Workshop für weibliche Teenager im Alter von 13-17 Jahren
DESCRIPTION:Workshop mit Dr. Andrea Feußner\, Ernährungsberaterin und Trainerin aus München \nEs gibt jede Menge Situationen\, die Dich vielleicht verunsichern und die Du jeden Tag meisterst. Essen ist eine Notwendigkeit. Die Körpersignale Hunger und Sättigung steuern\, wann Du Nahrung brauchst und wann es genug ist. Aber unser Körper sagt uns im Voraus nicht\, in welchen Nahrungsmitteln Gluten enthalten ist oder wie Du Dich am besten verhältst\, wenn Du verunsichert bist. \nWir treffen uns in einer Gruppe weiblicher Teenagerinnen\, die diese Situation kennen. In der Gruppe darfst Du Fragen stellen\, von Deinen Erfolgen oder Frustrationen erzählen oder auch einfach nur zuhören. Du bekommst auch ein Gefühl\, wie andere mit dem Thema umgehen. Und wir können auch leckere glutenfreie Ideen austauschen. Wir freuen uns auf Dich ! \nGeplanter Ablauf: 10 Uhr: Start Workshop 1.Teil / ca. 12 Uhr Mittagspause mit von den Teilnehmer:innen selbst-hergestellten und – mitgebrachten Speisen / ca 13 Uhr Start Workshop 2.Teil. Weitere Detailinformation per Email. \nBitte beachten – Anmeldeschluss ist der Freitag 4. November 2022.
URL:https://zoeliakie-muenchen.de/event/einen-guten-umgang-mit-zoeliakie-finden-workshop-fuer-teenagerinnen-221119/
LOCATION:LAG Selbsthilfe Bayern\, Orleansplatz 3 \, München\, LAG Selbsthilfe Bayern\, Orleansplatz 3\, München\, Deutschland
CATEGORIES:Info & Beratung,Kinder & Familien
ATTACH;FMTTYPE=image/jpeg:https://zoeliakie-muenchen.de/wp-content/uploads/2021/12/Teenager_800_800.jpg
ORGANIZER;CN="Wilma Ruhs":MAILTO:w.ruhs@zoeliakie-suedbayern.de
END:VEVENT
BEGIN:VEVENT
DTSTART;TZID=Europe/Berlin:20221120T100000
DTEND;TZID=Europe/Berlin:20221120T150000
DTSTAMP:20260423T062020
CREATED:20220515T074104Z
LAST-MODIFIED:20221017T140537Z
UID:3040-1668938400-1668956400@zoeliakie-muenchen.de
SUMMARY:Zöli-Tipps und -Tricks: "Wie komme ich stark durch meinen Alltag!"\, Workshop für Grundschulkinder der 3. und 4. Klasse
DESCRIPTION:Workshop mit Dr. Andrea Feußner\, Ernährungsberaterin und Trainerin aus München \nEs gibt jede Menge Situationen\, die Dich vielleicht verunsichern und die Du jeden Tag meisterst. Essen ist eine Notwendigkeit. Die Körpersignale Hunger und Sättigung steuern\, wann Du Nahrung brauchst und wann es genug ist. Aber unser Körper sagt uns im Voraus nicht\, in welchen Nahrungsmitteln Gluten enthalten ist oder wie Du Dich am besten verhältst\, wenn Du verunsichert bist. \nWir treffen uns in einer Gruppe mit Jungen und Mädchen\, die diese Situation kennen. In der Gruppe darfst Du Fragen stellen\, von Deinen Erfolgen oder Frustrationen erzählen oder auch einfach nur zuhören. Du bekommst auch ein Gefühl\, wie andere mit dem Thema umgehen. Und wir können auch leckere glutenfreie Ideen austauschen. Wir freuen uns auf Dich ! \nGeplanter Ablauf: 10 Uhr: Start Workshop 1.Teil / ca. 12 Uhr Mittagspause mit von den Teilnehmer:innen selbst-hergestellten und – mitgebrachten Speisen / ca 13 Uhr Start Workshop 2.Teil. Weitere Detailinformation per Email. \nBitte beachten – Anmeldeschluss ist der Freitag 4. November 2022.  \n  \n  \n 
URL:https://zoeliakie-muenchen.de/event/einen-guten-umgang-mit-zoeliakie-finden-workshop-fuer-grundschulkinder-der-3-und-4-klasse-221120/
LOCATION:LAG Selbsthilfe Bayern\, Orleansplatz 3 \, München\, LAG Selbsthilfe Bayern\, Orleansplatz 3\, München\, Deutschland
CATEGORIES:Info & Beratung,Kinder & Familien
ATTACH;FMTTYPE=image/jpeg:https://zoeliakie-muenchen.de/wp-content/uploads/2021/12/Kinder_800_800.jpg
ORGANIZER;CN="Wilma Ruhs":MAILTO:w.ruhs@zoeliakie-suedbayern.de
END:VEVENT
BEGIN:VEVENT
DTSTART;TZID=Europe/Berlin:20221120T120000
DTEND;TZID=Europe/Berlin:20221120T150000
DTSTAMP:20260423T062020
CREATED:20211205T140102Z
LAST-MODIFIED:20211216T170014Z
UID:2287-1668945600-1668956400@zoeliakie-muenchen.de
SUMMARY:Zöliakie Stammtisch für Familien
DESCRIPTION:Zöliakie Stammtisch für Familien mit betroffenen Kindern und Angehörigen.\nBitte melde uns deine Teilnahme an\, damit wir genügend Plätze sicherstellen können.
URL:https://zoeliakie-muenchen.de/event/zoeliakie-stammtisch-familien-muenchen-22-11-20/
LOCATION:Gasthof Gross\, Mühlstraße 2\, Bergkirchen\, 85232\, Deutschland
CATEGORIES:Kinder & Familien,Stammtisch
ATTACH;FMTTYPE=image/jpeg:https://zoeliakie-muenchen.de/wp-content/uploads/2021/12/Stammtisch_800_800.jpg
ORGANIZER;CN="Florian Rapp":MAILTO:f.rapp@zoeliakie-suedbayern.de
END:VEVENT
BEGIN:VEVENT
DTSTART;TZID=Europe/Berlin:20221125T160000
DTEND;TZID=Europe/Berlin:20221125T200000
DTSTAMP:20260423T062020
CREATED:20211202T221624Z
LAST-MODIFIED:20221118T211128Z
UID:2213-1669392000-1669406400@zoeliakie-muenchen.de
SUMMARY:Backkurs glutenfreie Weihnachtsbäckerei
DESCRIPTION:Wir backen gemeinsam glutenfreie Weihnachtsplätzchen – zum Naschen und zum Mitnehmen nach Hause. Bitte melde uns deine Teilnahme an\, damit wir genügend Plätze sicherstellen können.Der Preis ist ein Anhaltswert und hängt von der Anzahl der Teilnehmer ab.
URL:https://zoeliakie-muenchen.de/event/glutenfreie-weihnachtsbaeckerei-22-11-25/
LOCATION:Rottach Egern
CATEGORIES:Erwachsene,Kinder & Familien,Kochen & Backen
ATTACH;FMTTYPE=image/jpeg:https://zoeliakie-muenchen.de/wp-content/uploads/2021/12/Weihnachtsplaetzchen_800_800.jpg
ORGANIZER;CN="Christa Porer":MAILTO:info@zoeliakie-suedbayern.de
END:VEVENT
BEGIN:VEVENT
DTSTART;TZID=Europe/Berlin:20221125T180000
DTEND;TZID=Europe/Berlin:20221125T210000
DTSTAMP:20260423T062020
CREATED:20211130T210929Z
LAST-MODIFIED:20221016T095548Z
UID:2121-1669399200-1669410000@zoeliakie-muenchen.de
SUMMARY:ABGESAGT - Glutenfreie Weihnachtsfeier in München
DESCRIPTION:Gutenfreie Weihnachtsfeier mit Plätzchen und Glühwein.Bitte melde uns deine Teilnahme an\, damit wir genügend Plätze sicherstellen können.
URL:https://zoeliakie-muenchen.de/event/glutenfreie-weihnachtsfeier-muenchen-22-11-25/
LOCATION:München (Detail folgt)
CATEGORIES:Erwachsene,Feier
ATTACH;FMTTYPE=image/jpeg:https://zoeliakie-muenchen.de/wp-content/uploads/2021/11/Weihnachten_800_800.jpg
ORGANIZER;CN="Dominique Stellwag":MAILTO:d.stellwag@zoeliakie-suedbayern.de
END:VEVENT
END:VCALENDAR