BEGIN:VCALENDAR
VERSION:2.0
PRODID:-//Zöliakie Selbsthilfegruppe Südbayern - ECPv6.15.14//NONSGML v1.0//EN
CALSCALE:GREGORIAN
METHOD:PUBLISH
X-WR-CALNAME:Zöliakie Selbsthilfegruppe Südbayern
X-ORIGINAL-URL:https://zoeliakie-muenchen.de
X-WR-CALDESC:Veranstaltungen für Zöliakie Selbsthilfegruppe Südbayern
REFRESH-INTERVAL;VALUE=DURATION:PT1H
X-Robots-Tag:noindex
X-PUBLISHED-TTL:PT1H
BEGIN:VTIMEZONE
TZID:Europe/Berlin
BEGIN:DAYLIGHT
TZOFFSETFROM:+0100
TZOFFSETTO:+0200
TZNAME:CEST
DTSTART:20220327T010000
END:DAYLIGHT
BEGIN:STANDARD
TZOFFSETFROM:+0200
TZOFFSETTO:+0100
TZNAME:CET
DTSTART:20221030T010000
END:STANDARD
BEGIN:DAYLIGHT
TZOFFSETFROM:+0100
TZOFFSETTO:+0200
TZNAME:CEST
DTSTART:20230326T010000
END:DAYLIGHT
BEGIN:STANDARD
TZOFFSETFROM:+0200
TZOFFSETTO:+0100
TZNAME:CET
DTSTART:20231029T010000
END:STANDARD
BEGIN:DAYLIGHT
TZOFFSETFROM:+0100
TZOFFSETTO:+0200
TZNAME:CEST
DTSTART:20240331T010000
END:DAYLIGHT
BEGIN:STANDARD
TZOFFSETFROM:+0200
TZOFFSETTO:+0100
TZNAME:CET
DTSTART:20241027T010000
END:STANDARD
END:VTIMEZONE
BEGIN:VEVENT
DTSTART;TZID=Europe/Berlin:20230118T180000
DTEND;TZID=Europe/Berlin:20230118T210000
DTSTAMP:20260423T033149
CREATED:20221230T074016Z
LAST-MODIFIED:20221230T074016Z
UID:3521-1674064800-1674075600@zoeliakie-muenchen.de
SUMMARY:Zöliakie Stammtisch Tegernsee
DESCRIPTION:Zöliakie Stammtisch für alle Betroffenen und Angehörige im südlichen Münchner Umland und der Region Tegernsee.Bitte melde uns deine Teilnahme an\, damit wir genügend Plätze sicherstellen können.
URL:https://zoeliakie-muenchen.de/event/zoeliakie-stammtisch-tegernsee-230118/
LOCATION:Restaurant Luna Rossa\, Münchner Straße 138\, Gmund\, Bayern\, 83703
CATEGORIES:Erwachsene,Stammtisch
ATTACH;FMTTYPE=image/jpeg:https://zoeliakie-muenchen.de/wp-content/uploads/2021/12/Stammtisch_800_800.jpg
ORGANIZER;CN="Christa Porer":MAILTO:info@zoeliakie-suedbayern.de
END:VEVENT
BEGIN:VEVENT
DTSTART;TZID=Europe/Berlin:20230121T100000
DTEND;TZID=Europe/Berlin:20230121T150000
DTSTAMP:20260423T033149
CREATED:20221012T180007Z
LAST-MODIFIED:20221230T072713Z
UID:3381-1674295200-1674313200@zoeliakie-muenchen.de
SUMMARY:ABGESAGT - Zöli-Tipps und Tricks:"Wie komme ich stark durch meinen Alltag!" - Workshop für männliche Teenager im Alter von 13-17 Jahren
DESCRIPTION:Absage aus organisatorischen Gründen \n  \n—– \n  \nWorkshop mit Dr. Andrea Feußner\, Ernährungsberaterin und Trainerin aus München \nEs gibt jede Menge Situationen\, die Dich vielleicht verunsichern und die Du jeden Tag meisterst. Essen ist eine Notwendigkeit. Die Körpersignale Hunger und Sättigung steuern\, wann Du Nahrung brauchst und wann es genug ist. Aber unser Körper sagt uns im Voraus nicht\, in welchen Nahrungsmitteln Gluten enthalten ist oder wie Du Dich am besten verhältst\, wenn Du verunsichert bist. \nWir treffen uns in einer Gruppe mit anderen (männlichen) Teenagern\, die diese Situation kennen. In der Gruppe darfst Du Fragen stellen\, von Deinen Erfolgen oder Frustrationen erzählen oder auch einfach nur zuhören. Du bekommst auch ein Gefühl\, wie andere mit dem Thema umgehen. Und wir können auch leckere glutenfreie Ideen austauschen. Wir freuen uns auf Dich ! \nGeplanter Ablauf: 10 Uhr: Start Workshop 1.Teil / ca. 12 Uhr Mittagspause mit von den Teilnehmer:innen selbst-hergestellten und – mitgebrachten Speisen / ca 13 Uhr Start Workshop 2.Teil. Weitere Detailinformation per Email. \nBitte beachten – Anmeldeschluss ist der Freitag 6. Januar 2023.
URL:https://zoeliakie-muenchen.de/event/zoeli-tipps-und-trickswie-komme-ich-stark-durch-meinen-alltag-workshop-fuer-maennliche-teenager-im-alter-von-13-17-jahren/
LOCATION:LAG Selbsthilfe Bayern\, Orleansplatz 3 \, München\, LAG Selbsthilfe Bayern\, Orleansplatz 3\, München\, Deutschland
CATEGORIES:Kinder & Familien
ATTACH;FMTTYPE=image/jpeg:https://zoeliakie-muenchen.de/wp-content/uploads/2021/12/Teenager_800_800.jpg
ORGANIZER;CN="Wilma Ruhs":MAILTO:w.ruhs@zoeliakie-suedbayern.de
END:VEVENT
BEGIN:VEVENT
DTSTART;TZID=Europe/Berlin:20230124T180000
DTEND;TZID=Europe/Berlin:20230124T210000
DTSTAMP:20260423T033149
CREATED:20221231T052830Z
LAST-MODIFIED:20221231T052830Z
UID:3596-1674583200-1674594000@zoeliakie-muenchen.de
SUMMARY:Zöliakie Stammtisch München
DESCRIPTION:Zöliakie Stammtisch für alle Betroffenen und deren Angehörige in München. Bitte melde uns deine Teilnahme an\, damit wir genügend Plätze sicherstellen können.
URL:https://zoeliakie-muenchen.de/event/zoeliakie-stammtisch-muenchen-230124/
LOCATION:Taverne Naxos\, Verdistraße 33\, München\, 81247\, Deutschland
CATEGORIES:Erwachsene,Stammtisch
ATTACH;FMTTYPE=image/jpeg:https://zoeliakie-muenchen.de/wp-content/uploads/2021/12/Muenchen_Frauenkirche_800_800.jpg
ORGANIZER;CN="Christa Porer":MAILTO:info@zoeliakie-suedbayern.de
END:VEVENT
END:VCALENDAR