BEGIN:VCALENDAR
VERSION:2.0
PRODID:-//Zöliakie Selbsthilfegruppe Südbayern - ECPv6.15.14//NONSGML v1.0//EN
CALSCALE:GREGORIAN
METHOD:PUBLISH
X-WR-CALNAME:Zöliakie Selbsthilfegruppe Südbayern
X-ORIGINAL-URL:https://zoeliakie-muenchen.de
X-WR-CALDESC:Veranstaltungen für Zöliakie Selbsthilfegruppe Südbayern
REFRESH-INTERVAL;VALUE=DURATION:PT1H
X-Robots-Tag:noindex
X-PUBLISHED-TTL:PT1H
BEGIN:VTIMEZONE
TZID:Europe/Berlin
BEGIN:DAYLIGHT
TZOFFSETFROM:+0100
TZOFFSETTO:+0200
TZNAME:CEST
DTSTART:20220327T010000
END:DAYLIGHT
BEGIN:STANDARD
TZOFFSETFROM:+0200
TZOFFSETTO:+0100
TZNAME:CET
DTSTART:20221030T010000
END:STANDARD
BEGIN:DAYLIGHT
TZOFFSETFROM:+0100
TZOFFSETTO:+0200
TZNAME:CEST
DTSTART:20230326T010000
END:DAYLIGHT
BEGIN:STANDARD
TZOFFSETFROM:+0200
TZOFFSETTO:+0100
TZNAME:CET
DTSTART:20231029T010000
END:STANDARD
BEGIN:DAYLIGHT
TZOFFSETFROM:+0100
TZOFFSETTO:+0200
TZNAME:CEST
DTSTART:20240331T010000
END:DAYLIGHT
BEGIN:STANDARD
TZOFFSETFROM:+0200
TZOFFSETTO:+0100
TZNAME:CET
DTSTART:20241027T010000
END:STANDARD
END:VTIMEZONE
BEGIN:VEVENT
DTSTART;TZID=Europe/Berlin:20230315T180000
DTEND;TZID=Europe/Berlin:20230315T210000
DTSTAMP:20260423T004927
CREATED:20221230T074705Z
LAST-MODIFIED:20221230T074705Z
UID:3519-1678903200-1678914000@zoeliakie-muenchen.de
SUMMARY:Zöliakie Stammtisch Tegernsee
DESCRIPTION:Zöliakie Stammtisch für alle Betroffenen und Angehörige im südlichen Münchner Umland und der Region Tegernsee.Bitte melde uns deine Teilnahme an\, damit wir genügend Plätze sicherstellen können.
URL:https://zoeliakie-muenchen.de/event/zoeliakie-stammtisch-tegernsee-230315/
LOCATION:Restaurant Luna Rossa\, Münchner Straße 138\, Gmund\, Bayern\, 83703
CATEGORIES:Erwachsene,Stammtisch
ATTACH;FMTTYPE=image/jpeg:https://zoeliakie-muenchen.de/wp-content/uploads/2021/12/Stammtisch_800_800.jpg
ORGANIZER;CN="Christa Porer":MAILTO:info@zoeliakie-suedbayern.de
END:VEVENT
BEGIN:VEVENT
DTSTART;TZID=Europe/Berlin:20230317T140000
DTEND;TZID=Europe/Berlin:20230317T170000
DTSTAMP:20260423T004927
CREATED:20221231T091450Z
LAST-MODIFIED:20230216T180226Z
UID:3683-1679061600-1679072400@zoeliakie-muenchen.de
SUMMARY:Glutenfreies Osterbacken
DESCRIPTION:Hasen\, Lämmer und jede Menge Hefezopf – beim glutenfreien Osterbacken bereiten wir alles für die Feiertage vor. Die Kosten sind ein grober Anhaltswert und hängen von der tatsächlichen Teilnehmerzahl ab. Die Details sind aktuell in Ausarbeitung. Eine Anmeldung wird ab Feburar 2023 möglich sein.
URL:https://zoeliakie-muenchen.de/event/glutenfreies-osterbacken-230317/
LOCATION:Berufsfachschule für Diätetik\, Antonienstraße 6\, München\, 80802\, Deutschland
CATEGORIES:Erwachsene,Jugendliche,Kinder & Familien,Kochen & Backen
ATTACH;FMTTYPE=image/jpeg:https://zoeliakie-muenchen.de/wp-content/uploads/2021/12/Osterbacken_800_800.jpg
ORGANIZER;CN="Sandra Schmolz":MAILTO:s.schmolz@zoeliakie-suedbayern.de
END:VEVENT
BEGIN:VEVENT
DTSTART;TZID=Europe/Berlin:20230321T180000
DTEND;TZID=Europe/Berlin:20230321T210000
DTSTAMP:20260423T004927
CREATED:20221231T053446Z
LAST-MODIFIED:20230321T070206Z
UID:3594-1679421600-1679432400@zoeliakie-muenchen.de
SUMMARY:Zöliakie Stammtisch München
DESCRIPTION:Zöliakie Stammtisch für alle Betroffenen und deren Angehörige in München. Bitte melde uns deine Teilnahme an\, damit wir genügend Plätze sicherstellen können.
URL:https://zoeliakie-muenchen.de/event/zoeliakie-stammtisch-muenchen-230321/
LOCATION:Pizzeria La Fantasia\, Seeriederstraße 5\, München\, 81675
CATEGORIES:Erwachsene,Stammtisch
ATTACH;FMTTYPE=image/jpeg:https://zoeliakie-muenchen.de/wp-content/uploads/2021/12/Muenchen_Frauenkirche_800_800.jpg
ORGANIZER;CN="Christa Porer":MAILTO:info@zoeliakie-suedbayern.de
END:VEVENT
BEGIN:VEVENT
DTSTART;TZID=Europe/Berlin:20230323T180000
DTEND;TZID=Europe/Berlin:20230323T210000
DTSTAMP:20260423T004927
CREATED:20221230T173213Z
LAST-MODIFIED:20221230T173427Z
UID:3568-1679594400-1679605200@zoeliakie-muenchen.de
SUMMARY:Zöliakie Stammtisch München
DESCRIPTION:Zöliakie Stammtisch für alle Betroffenen und deren Angehörige in München. Bitte melde uns deine Teilnahme an\, damit wir genügend Plätze sicherstellen können.
URL:https://zoeliakie-muenchen.de/event/zoeliakie-stammtisch-muenchen-230323/
LOCATION:Gasthof Obermaier\, Truderinger Straße 306\, München\, Bayern\, 81825\, Deutschland
CATEGORIES:Erwachsene,Stammtisch
ATTACH;FMTTYPE=image/jpeg:https://zoeliakie-muenchen.de/wp-content/uploads/2021/12/Muenchen_Frauenkirche_800_800.jpg
END:VEVENT
END:VCALENDAR