BEGIN:VCALENDAR
VERSION:2.0
PRODID:-//Zöliakie Selbsthilfegruppe Südbayern - ECPv6.15.14//NONSGML v1.0//EN
CALSCALE:GREGORIAN
METHOD:PUBLISH
X-ORIGINAL-URL:https://zoeliakie-muenchen.de
X-WR-CALDESC:Veranstaltungen für Zöliakie Selbsthilfegruppe Südbayern
REFRESH-INTERVAL;VALUE=DURATION:PT1H
X-Robots-Tag:noindex
X-PUBLISHED-TTL:PT1H
BEGIN:VTIMEZONE
TZID:Europe/Berlin
BEGIN:DAYLIGHT
TZOFFSETFROM:+0100
TZOFFSETTO:+0200
TZNAME:CEST
DTSTART:20220327T010000
END:DAYLIGHT
BEGIN:STANDARD
TZOFFSETFROM:+0200
TZOFFSETTO:+0100
TZNAME:CET
DTSTART:20221030T010000
END:STANDARD
BEGIN:DAYLIGHT
TZOFFSETFROM:+0100
TZOFFSETTO:+0200
TZNAME:CEST
DTSTART:20230326T010000
END:DAYLIGHT
BEGIN:STANDARD
TZOFFSETFROM:+0200
TZOFFSETTO:+0100
TZNAME:CET
DTSTART:20231029T010000
END:STANDARD
BEGIN:DAYLIGHT
TZOFFSETFROM:+0100
TZOFFSETTO:+0200
TZNAME:CEST
DTSTART:20240331T010000
END:DAYLIGHT
BEGIN:STANDARD
TZOFFSETFROM:+0200
TZOFFSETTO:+0100
TZNAME:CET
DTSTART:20241027T010000
END:STANDARD
END:VTIMEZONE
BEGIN:VEVENT
DTSTART;TZID=Europe/Berlin:20230604T120000
DTEND;TZID=Europe/Berlin:20230604T150000
DTSTAMP:20260422T203232
CREATED:20221230T061228Z
LAST-MODIFIED:20221230T061228Z
UID:3485-1685880000-1685890800@zoeliakie-muenchen.de
SUMMARY:Zöliakie Stammtisch für Familien
DESCRIPTION:Zöliakie Stammtisch für Familien mit betroffenen Kindern und Angehörigen. Bitte melde uns deine Teilnahme an\, damit wir genügend Plätze sicherstellen können.
URL:https://zoeliakie-muenchen.de/event/zoeliakie-stammtisch-familien-230604/
LOCATION:Wirtshaus am Bavariapark\, Theresienhöhe 15\, München\, 80339
CATEGORIES:Kinder & Familien,Stammtisch
ATTACH;FMTTYPE=image/jpeg:https://zoeliakie-muenchen.de/wp-content/uploads/2022/12/Schnitzel_800_800.jpg
ORGANIZER;CN="Florian Rapp":MAILTO:f.rapp@zoeliakie-suedbayern.de
END:VEVENT
BEGIN:VEVENT
DTSTART;TZID=Europe/Berlin:20230605T180000
DTEND;TZID=Europe/Berlin:20230605T193000
DTSTAMP:20260422T203232
CREATED:20221230T172213Z
LAST-MODIFIED:20230507T205935Z
UID:3556-1685988000-1685993400@zoeliakie-muenchen.de
SUMMARY:Online-Austausch für Neubetroffene
DESCRIPTION:Online-Austausch für Neubetroffene mit Hilfestellungen zu den wichtigsten Themen rund um Ernährung\, Einkaufen\, Essen ausser Haus – und euren persönlichen Fragen. Der Link zum Termin wird an die Teilnehmer vorab zugesendet.
URL:https://zoeliakie-muenchen.de/event/online-austausch-neubetroffene-230605/
LOCATION:Online
CATEGORIES:Erwachsene,Info & Beratung,Jugendliche,Kinder & Familien
ATTACH;FMTTYPE=image/jpeg:https://zoeliakie-muenchen.de/wp-content/uploads/2021/11/Neubetroffene_online_800_800.jpg
ORGANIZER;CN="Dominique Stellwag":MAILTO:d.stellwag@zoeliakie-suedbayern.de
END:VEVENT
BEGIN:VEVENT
DTSTART;TZID=Europe/Berlin:20230613T180000
DTEND;TZID=Europe/Berlin:20230613T210000
DTSTAMP:20260422T203232
CREATED:20221231T054541Z
LAST-MODIFIED:20230530T191350Z
UID:3591-1686679200-1686690000@zoeliakie-muenchen.de
SUMMARY:Zöliakie Stammtisch München
DESCRIPTION:Zöliakie Stammtisch für alle Betroffenen und deren Angehörige in München. Bitte melde uns deine Teilnahme an\, damit wir genügend Plätze sicherstellen können.
URL:https://zoeliakie-muenchen.de/event/zoeliakie-stammtisch-muenchen-230613/
LOCATION:Taverne Naxos\, Verdistraße 33\, München\, 81247\, Deutschland
CATEGORIES:Erwachsene,Stammtisch
ATTACH;FMTTYPE=image/jpeg:https://zoeliakie-muenchen.de/wp-content/uploads/2021/12/Muenchen_Frauenkirche_800_800.jpg
ORGANIZER;CN="Christa Porer":MAILTO:info@zoeliakie-suedbayern.de
END:VEVENT
BEGIN:VEVENT
DTSTART;TZID=Europe/Berlin:20230614T180000
DTEND;TZID=Europe/Berlin:20230614T210000
DTSTAMP:20260422T203232
CREATED:20221230T075408Z
LAST-MODIFIED:20221230T075408Z
UID:3516-1686765600-1686776400@zoeliakie-muenchen.de
SUMMARY:Zöliakie Stammtisch Tegernsee
DESCRIPTION:Zöliakie Stammtisch für alle Betroffenen und Angehörige im südlichen Münchner Umland und der Region Tegernsee.Bitte melde uns deine Teilnahme an\, damit wir genügend Plätze sicherstellen können.
URL:https://zoeliakie-muenchen.de/event/zoeliakie-stammtisch-tegernsee-230614/
LOCATION:Restaurant Luna Rossa\, Münchner Straße 138\, Gmund\, Bayern\, 83703
CATEGORIES:Erwachsene,Stammtisch
ATTACH;FMTTYPE=image/jpeg:https://zoeliakie-muenchen.de/wp-content/uploads/2021/12/Stammtisch_800_800.jpg
ORGANIZER;CN="Christa Porer":MAILTO:info@zoeliakie-suedbayern.de
END:VEVENT
BEGIN:VEVENT
DTSTART;TZID=Europe/Berlin:20230617T090000
DTEND;TZID=Europe/Berlin:20230617T130000
DTSTAMP:20260422T203232
CREATED:20221231T073032Z
LAST-MODIFIED:20230526T121639Z
UID:3650-1686992400-1687006800@zoeliakie-muenchen.de
SUMMARY:Glutenfreies Kochen - Theorie & Praxis für Jugendliche (5. - 7- Klasse)
DESCRIPTION:Der Sommer steht vor der Tür ! \nDu brauchst Ideen\, Rezepte und Tipps rund um eine leckere\, erfolgreiche und glutenfreie Grillparty ? In unserem Kurs lernst du einige Marinaden für Gemüse\, Fleisch und Fisch herzustellen und dies alles zu grillen. \nWir bereiten verschiedene Salate mit unterschiedlichen Soßen zu\, z.b. einen glutenfreien\, italienischen Nudelsalat mit selbstgemachtem Pesto. Zur Erfischung mixen wir alkoholfreie Cocktails.\n \nAlles rund ums glutenfreie Kochen und das gemeinsame Essen wollen wir zusammen erkunden und somit dieses\, vielleicht manchmal schwierige und kräftezehrende Thema\, auf leichte Weise angehen. \nUnser Kochmotto: Wir können allein ganz viel\, aber im Team sind wir stärker ! \nAlle Ziele und Inhalte dienen dem Aufbau eines Netzwerks\, der Stärkung der Gemeischaft und dem Austausch mit gleichaltrigen Betroffenen. Eine zusammen entworfene Tischdekoration und ungezwungene Gespräche runden unseren Kurs ab. \nZusätzlich erwartet dich: \n-Training zum Lesen von Zutatenlisten\, Rezepten und Kennzeichnung von verpackten Nahrungsmitteln\, mit Hinblick auf die Diät ( vorbereitet in der Praxis oder beim gemeinsamen Einkauf). \n-Stärkung des altersentsprechenden\, sicheren Umgangs mit der glutenfreien Diät nach den Leitlinien der DZG. Besprechung von Gefahrenquellen. \n-Allgemeine Lebensmittelkunde mit weiteren Tipps im Hinblick auf die Diät. \n-Rezepte zum Mitnehmen und leichtes Nachmachen daheim garantiert. \nBitte feste Schuhe und eine kleine Dosen für Probierreste mitbringen ! \nAllgemeines: \nWorkshop mit Ivonne Stötzer und Axel Eichenseher\, Dauer inkl. gemeinsamen Essen 4 Std. d.h. von 9 – 13 Uhr / Kursgröße: 4-8 TeilnehmerInnen / Der Kurs findet ohne Eltern in der Praxis Stötzer in Krailing statt. Der Kurs wird vorr. gefördert vom Runden Tisch der Münchner Krankenkassen. Anmeldeschluß ist der 26.5.2023. Nach Ihrer Anmeldung über den Anmeldebutton erhalten Sie von uns eine automatisierte Reservierungsbestättigung. Später dann eine Email von Wilma Ruhs mit detailliertem Anmeldebogen und DZG-Kontonr. für die Überweisung der Kursgebühr. Sobald die maximale Teilnehmeranzahl von 8 erreicht ist erhalten Sie einen Platz auf der Warteliste. \nFür Rückfragen stehe ich Dir / Ihnen gerne unter 0171-4762948 (Handynr. Wilma Ruhs\, Kontaktperson der DZG Gruppe München) zur Verfügung. \nWir freuen uns auf dich\, Ivonne\, Axel und Wilma
URL:https://zoeliakie-muenchen.de/event/glutenfreies-kochen-jugendliche-230617/
LOCATION:Krailling\, Auenstraße 4a\, Krailling\, 82152\, Deutschland
CATEGORIES:Info & Beratung,Jugendliche,Kochen & Backen
ATTACH;FMTTYPE=image/jpeg:https://zoeliakie-muenchen.de/wp-content/uploads/2022/12/Kochen_Kinder_800_800.jpg
ORGANIZER;CN="Wilma Ruhs":MAILTO:w.ruhs@zoeliakie-suedbayern.de
END:VEVENT
BEGIN:VEVENT
DTSTART;TZID=Europe/Berlin:20230617T140000
DTEND;TZID=Europe/Berlin:20230617T180000
DTSTAMP:20260422T203232
CREATED:20221231T084559Z
LAST-MODIFIED:20230606T165020Z
UID:3646-1687010400-1687024800@zoeliakie-muenchen.de
SUMMARY:Glutenfreies Kochen - Theorie & Praxis für Jugendliche (ab 8. Klasse)
DESCRIPTION:Der Sommer steht vor der Tür ! \nDu brauchst Ideen\, Rezepte und Tipps rund um eine leckere\, erfolgreiche und glutenfreie Grillparty ? In unserem Kurs lernst du einige Marinaden für Gemüse\, Fleisch und Fisch herzustellen und dies alles zu grillen. \nWir bereiten verschiedene Salate mit unterschiedlichen Soßen zu\, z.b. einen glutenfreien\, italienischen Nudelsalat mit selbstgemachtem Pesto. Zur Erfischung mixen wir alkoholfreie Cocktails.\n \nAlles rund ums glutenfreie Kochen und das gemeinsame Essen wollen wir zusammen erkunden und somit dieses\, vielleicht manchmal schwierige und kräftezehrende Thema\, auf leichte Weise angehen. \nUnser Kochmotto: Wir können allein ganz viel\, aber im Team sind wir stärker ! \nAlle Ziele und Inhalte dienen dem Aufbau eines Netzwerks\, der Stärkung der Gemeischaft und dem Austausch mit gleichaltrigen Betroffenen. Eine zusammen entworfene Tischdekoration und ungezwungene Gespräche runden unseren Kurs ab. \nZusätzlich erwartet dich: \n-Training zum Lesen von Zutatenlisten\, Rezepten und Kennzeichnung von verpackten Nahrungsmitteln\, mit Hinblick auf die Diät ( vorbereitet in der Praxis oder beim gemeinsamen Einkauf). \n-Stärkung des altersentsprechenden\, sicheren Umgangs mit der glutenfreien Diät nach den Leitlinien der DZG. Besprechung von Gefahrenquellen. \n-Allgemeine Lebensmittelkunde mit weiteren Tipps im Hinblick auf die Diät. \n-Rezepte zum Mitnehmen und leichtes Nachmachen daheim garantiert. \nBitte feste Schuhe und eine kleine Dose für Probierreste mitbringen ! \nAllgemeines: \nWorkshop mit Ivonne Stötzer und Axel Eichenseher\, Dauer inkl. gemeinsamen Essen 4 Std. d.h. von 14-18 Uhr / Kursgröße: 4-8 TeilnehmerInnen / Der Kurs findet ohne Eltern in der Praxis Stötzer in Krailing statt. Der Kurs wird vorr. gefördert vom Runden Tisch der Münchner Krankenkassen. Anmeldeschluß ist der 26.5.2023. Nach Ihrer Anmeldung über den Anmeldebutton erhalten Sie von uns eine automatisierte Reservierungsbestättigung. Später dann eine Email von Wilma Ruhs mit detailliertem Anmeldebogen und DZG-Kontonr. für die Überweisung der Kursgebühr. Sobald die maximale Teilnehmeranzahl von 8 erreicht ist erhalten Sie einen Platz auf der Warteliste. \nFür Rückfragen stehe ich Dir / Ihnen gerne unter 0171-4762948 (Handynr. Wilma Ruhs\, Kontaktperson der DZG Gruppe München) zur Verfügung. \nWir freuen uns auf dich\, Ivonne\, Axel und Wilma
URL:https://zoeliakie-muenchen.de/event/glutenfreies-kochen-jugendliche-ab-8-klasse-230618/
LOCATION:Krailling\, Auenstraße 4a\, Krailling\, 82152\, Deutschland
CATEGORIES:Info & Beratung,Jugendliche,Kochen & Backen
ATTACH;FMTTYPE=image/jpeg:https://zoeliakie-muenchen.de/wp-content/uploads/2022/12/Kochen_Jugendliche_800_800.jpg
ORGANIZER;CN="Wilma Ruhs":MAILTO:w.ruhs@zoeliakie-suedbayern.de
END:VEVENT
BEGIN:VEVENT
DTSTART;TZID=Europe/Berlin:20230618T090000
DTEND;TZID=Europe/Berlin:20230618T130000
DTSTAMP:20260422T203232
CREATED:20221231T071032Z
LAST-MODIFIED:20230526T121544Z
UID:3639-1687078800-1687093200@zoeliakie-muenchen.de
SUMMARY:Glutenfreies Kochen - Theorie & Praxis für GrundschülerInnen (2. - 4. Klasse)
DESCRIPTION:Der Sommer steht vor der Tür ! \nDu brauchst Ideen\, Rezepte und Tipps rund um eine leckere\, erfolgreiche und glutenfreie Grillparty ? In unserem Kurs lernst du einige Marinaden für Gemüse\, Fleisch und Fisch herzustellen und dies alles zu grillen. \nWir bereiten verschiedene Salate mit unterschiedlichen Soßen zu\, z.b. einen glutenfreien\, italienischen Nudelsalat mit selbstgemachtem Pesto. Zur Erfischung mixen wir alkoholfreie Cocktails.\n \nAlles rund ums glutenfreie Kochen und das gemeinsame Essen wollen wir zusammen erkunden und somit dieses\, vielleicht manchmal schwierige und kräftezehrende Familienthema\, auf leichte Weise angehen. \nUnser Kochmotto: Wir können allein ganz viel\, aber im Team sind wir stärker ! \nAlle Ziele und Inhalte dienen dem Aufbau eines Netzwerks\, der Stärkung der Gemeischaft und dem Austausch mit gleichaltrigen Betroffenen. Eine zusammen entworfene Tischdekoration und ungezwungene Gespräche runden unseren Kurs ab. \nZusätzlich erwartet dich: \n-Training zum Lesen von Zutatenlisten\, Rezepten und Kennzeichnung von verpackten Nahrungsmitteln\, mit Hinblick auf die Diät ( vorbereitet in der Praxis oder beim gemeinsamen Einkauf). \n-Stärkung des altersentsprechenden\, sicheren Umgangs mit der glutenfreien Diät nach den Leitlinien der DZG. Besprechung von Gefahrenquellen. \n-Allgemeine Lebensmittelkunde mit weiteren Tipps im Hinblick auf die Diät. \n-Rezepte zum Mitnehmen und leichtes Nachmachen daheim garantiert. \nBitte feste Schuhe und eine kleine Dosen für Probierreste mitbringen ! \nAllgemeines: \nWorkshop mit Ivonne Stötzer und Axel Eichenseher\, Dauer inkl. gemeinsamen Essen 4 Std. d.h. von 9 – 13 Uhr / Kursgröße: 4-8 TeilnehmerInnen / Der Kurs findet ohne Eltern in der Praxis Stötzer in Krailing statt. Der Kurs wird vorr. gefördert vom Runden Tisch der Münchner Krankenkassen. Anmeldeschluß ist der 26.5.2023. Nach Ihrer Anmeldung über den Anmeldebutton erhalten Sie von uns eine automatisierte Reservierungsbestättigung. Später dann eine Email von Wilma Ruhs mit detailliertem Anmeldebogen und DZG-Kontonr. für die Überweisung der Kursgebühr. Sobald die maximale Teilnehmeranzahl von 8 erreicht ist erhalten Sie einen Platz auf der Warteliste. \nFür Rückfragen stehe ich Dir / Ihnen gerne unter 0171-4762948 (Handynr. Wilma Ruhs\, Kontaktperson der DZG Gruppe München) zur Verfügung. \nWir freuen uns auf dich\, Ivonne\, Axel und Wilma
URL:https://zoeliakie-muenchen.de/event/glutenfrei_kochen_grundschueler-230617/
LOCATION:Krailling\, Auenstraße 4a\, Krailling\, 82152\, Deutschland
CATEGORIES:Info & Beratung,Kinder & Familien,Kochen & Backen
ATTACH;FMTTYPE=image/jpeg:https://zoeliakie-muenchen.de/wp-content/uploads/2022/12/Kochen_Kleinkinder_800_800.jpg
ORGANIZER;CN="Wilma Ruhs":MAILTO:w.ruhs@zoeliakie-suedbayern.de
END:VEVENT
BEGIN:VEVENT
DTSTART;TZID=Europe/Berlin:20230626T190000
DTEND;TZID=Europe/Berlin:20230626T203000
DTSTAMP:20260422T203232
CREATED:20221231T090831Z
LAST-MODIFIED:20230603T063748Z
UID:3681-1687806000-1687811400@zoeliakie-muenchen.de
SUMMARY:"Mit Zöliakie - unbeschwert und achtsam durchs Leben" - Onlineseminar für Eltern
DESCRIPTION:Als wir erfahren haben \, dass unser Kind Zöliakie hat\, war das ein Schock. Wir waren überfordert. Es gab soviel Neues. Wir klärten Großeltern\, Freunde und Verwandte auf\, dass unser Kind nun einen eigenen Toaster und eigenes Kochgeschirr hat. Dass es nur glutenfreie Nudeln essen darf und diese in einem separaten Kochtopf zubereitet werden. Und dass schon geringe Mengen Gluten seinen Dünndarm schädigen können. Die größte Herausforderung war der Aufenthalt im Schullandheim…. \nSolche Gedanken und Situationen haben wahrscheinlich die meisten Eltern nach der Diagnose: „Ihr Kind hat Zöliakie“ erlebt. Essen ist Lebensqualität. Sie können Ihr Kind unterstützen\, selbst mit Zöliakie\, Freude und Lust am Essen zu haben – auch im Restaurant. Gemeinsam sind wir stark. \nWir treffen uns in einer Gruppe von Eltern die diese Situation kennen. In der Gruppe dürfen Sie Fragen stellen\, von Ihren Tipps oder Frustrationen erzählen oder auch einfach nur zuhören. So bekommen Sie das Gefühl nicht allein zu sein und wie andere mit dem Thema umgehen. \nBitte suchen Sie sich für diese Online-Gruppe ein ruhiges gemütliches Plätzchen\, an dem Sie den Alltag loslassen und ungestört die 90 Minuten verbringen können. \nZielgruppe:\nEltern / Betreuungspersonen von Kindern mit Zöliakie \nZiele \n\nKennenlernen und Austausch mit betroffenen Eltern/Betreuungspersonen\nAufbau eines Netzwerks zum Austausch der Eltern-Zöliakie-Gemeinschaft\nVertiefung einer glutenfreien Ernährung (z.B. Lesen von Zutattenlisten/Kennzeichnung von verpackten Nahrungsmitteln)\nBeurteilungskompetenzen für das Essen im Restaurant\, Schulkantine\, Landschulheim\, etc.\n\nAllgemeines: \nWorkshop mit Dr. Andrea Feussner\, Ernährungstherapie und -beratung aus München. Geplante Dauer 1\,5 Std. d.h. von 19-20.30 Uhr / Kursgröße: max. 15 TeilnehmerInnen / Der Kurs wird vorr. gefördert vom Runden Tisch der Münchner Krankenkassen. Nach Ihrer Anmeldung über den Anmeldebutton erhalten Sie von uns eine automatisierte Reservierungsbestättigung . Später dann eine Email von Wilma Ruhs mit detailliertem Anmeldebogen und DZG-Kontonr. für die Überweisung der Kursgebühr. Sobald die maximale Teilnehmeranzahl von 15 erreicht ist erhalten Sie einen Platz auf der Warteliste. \nFür Rückfragen stehe ich Ihnen gerne unter 0171-4762948 (Handynr. Wilma Ruhs\, Kontaktperson der DZG Gruppe München) zur Verfügung. \nWir freuen uns auf Sie\, Dr. Andrea Feussner und Wilma Ruhs
URL:https://zoeliakie-muenchen.de/event/zoeliakie-achtsam-durchs-leben-230626/
LOCATION:Online
CATEGORIES:Info & Beratung,Kinder & Familien
ATTACH;FMTTYPE=image/jpeg:https://zoeliakie-muenchen.de/wp-content/uploads/2021/11/Neubetroffene_online_800_800.jpg
ORGANIZER;CN="Wilma Ruhs":MAILTO:w.ruhs@zoeliakie-suedbayern.de
END:VEVENT
END:VCALENDAR