BEGIN:VCALENDAR
VERSION:2.0
PRODID:-//Zöliakie Selbsthilfegruppe Südbayern - ECPv6.15.14//NONSGML v1.0//EN
CALSCALE:GREGORIAN
METHOD:PUBLISH
X-ORIGINAL-URL:https://zoeliakie-muenchen.de
X-WR-CALDESC:Veranstaltungen für Zöliakie Selbsthilfegruppe Südbayern
REFRESH-INTERVAL;VALUE=DURATION:PT1H
X-Robots-Tag:noindex
X-PUBLISHED-TTL:PT1H
BEGIN:VTIMEZONE
TZID:Europe/Berlin
BEGIN:DAYLIGHT
TZOFFSETFROM:+0100
TZOFFSETTO:+0200
TZNAME:CEST
DTSTART:20220327T010000
END:DAYLIGHT
BEGIN:STANDARD
TZOFFSETFROM:+0200
TZOFFSETTO:+0100
TZNAME:CET
DTSTART:20221030T010000
END:STANDARD
BEGIN:DAYLIGHT
TZOFFSETFROM:+0100
TZOFFSETTO:+0200
TZNAME:CEST
DTSTART:20230326T010000
END:DAYLIGHT
BEGIN:STANDARD
TZOFFSETFROM:+0200
TZOFFSETTO:+0100
TZNAME:CET
DTSTART:20231029T010000
END:STANDARD
BEGIN:DAYLIGHT
TZOFFSETFROM:+0100
TZOFFSETTO:+0200
TZNAME:CEST
DTSTART:20240331T010000
END:DAYLIGHT
BEGIN:STANDARD
TZOFFSETFROM:+0200
TZOFFSETTO:+0100
TZNAME:CET
DTSTART:20241027T010000
END:STANDARD
END:VTIMEZONE
BEGIN:VEVENT
DTSTART;TZID=Europe/Berlin:20230702T100000
DTEND;TZID=Europe/Berlin:20230702T160000
DTSTAMP:20260422T190523
CREATED:20221229T064440Z
LAST-MODIFIED:20230522T195011Z
UID:3472-1688292000-1688313600@zoeliakie-muenchen.de
SUMMARY:Ausflug für Familien zur Kleinbucher Alm
DESCRIPTION:Ausflug für Familien mit Kindern zur Kleinbucher-Alm mit Einkehr zu glutenfreien bayerischen Schmankerln. \nDieses Jahr bieten wir zwei Alternativen für unseren Ausflug zu Kleinbucher Alm an: Entweder erfolgt der Aufstieg wie gewohnt zu Fuß – oder ihr entspannt euch bei einer Kutschfahrt und lasst den Wald an euch vorüberziehen. Zudem bieten wir das Essen und wenn gewünscht die Kutschfahrt in einem Paket an.  \nHier die Übersicht: \n\n\n\n\n  \n\n\nMit Kutschfahrt \n\n\nOhne Kutschfahrt \n\n\n\n\n  \n\n\nVerfügbar \n\n\nKosten \n\n\nVerfügbar \n\n\nKosten \n\n\n\n\nKinder \n\n\n10 \n\n\n25 €(10 € Kutsche + 15 € Essen) \n\n\n10 \n\n\n15 € (Essen) \n\n\n\n\nErwachsene \n\n\n10 \n\n\n40 €(15 € Kutsche + 25 € Essen) \n\n\n10 \n\n\n25 € (Essen) \n\n\n\n\n  \nDas Menü (exkl. Getränke) beinhaltet: \n\nVorspeise: Backerbsensuppe\nHautspeise: Käsespätzle mit Salat ODER Schweinsbraten\, Knödel und Salat\nNachspeise: Kaiserschmarrn mit Apfelmus oder Zwetschgenkompott\n\nAlle Gerichte sind glutenfrei\, laktosefrei und werden ohne glutenfreie Weizenstärke hergestellt. \n  \nRoute für die Kutschfahrt \n\nAbfahrt am Parkplatz Schwarzentenn Nähe Kreuth\nStart um 10.00 Uhr\n\n \n  \nRoute für die den Aufstieg zu Fuß \n\nAbfahrt am Parkplatz Söllbach in Bad Wiessee\nAbfahrt um 10.30 Uhr\n\n \n  \nBitte meldet euch an mit der entsprechenden Personenanzahl und dem Hinweis welche Variante ihr wählt an. Wir prüfen nach Priorität des Eingangs der Anmeldung\, ob noch eintsprechende Plätze frei sind. Ihr erhaltet im Anschluss eine Nachricht mit der Bankverbindung zur verbindlichen Buchung der Plätze.
URL:https://zoeliakie-muenchen.de/event/ausflug-familien-kleinbucher-alm-230702/
LOCATION:Kleinbucher Alm\, Kreuth\, 83708
CATEGORIES:Aktivitäten,Jugendliche,Kinder & Familien
ATTACH;FMTTYPE=image/jpeg:https://zoeliakie-muenchen.de/wp-content/uploads/2021/12/Alm_800_800.jpg
ORGANIZER;CN="Florian Rapp":MAILTO:f.rapp@zoeliakie-suedbayern.de
END:VEVENT
BEGIN:VEVENT
DTSTART;TZID=Europe/Berlin:20230711T180000
DTEND;TZID=Europe/Berlin:20230711T210000
DTSTAMP:20260422T190523
CREATED:20221230T174853Z
LAST-MODIFIED:20230507T210230Z
UID:3566-1689098400-1689109200@zoeliakie-muenchen.de
SUMMARY:Zöliakie Stammtisch München
DESCRIPTION:Zöliakie Stammtisch für alle Betroffenen und deren Angehörige in München. Bitte melde uns deine Teilnahme an\, damit wir genügend Plätze sicherstellen können.
URL:https://zoeliakie-muenchen.de/event/zoeliakie-stammtisch-muenchen-230711/
LOCATION:Gasthof Obermaier\, Truderinger Straße 306\, München\, Bayern\, 81825\, Deutschland
CATEGORIES:Erwachsene,Stammtisch
ATTACH;FMTTYPE=image/jpeg:https://zoeliakie-muenchen.de/wp-content/uploads/2021/12/Muenchen_Frauenkirche_800_800.jpg
ORGANIZER;CN="Christa Porer":MAILTO:info@zoeliakie-suedbayern.de
END:VEVENT
BEGIN:VEVENT
DTSTART;TZID=Europe/Berlin:20230712T180000
DTEND;TZID=Europe/Berlin:20230712T210000
DTSTAMP:20260422T190523
CREATED:20221230T075749Z
LAST-MODIFIED:20221230T075749Z
UID:3515-1689184800-1689195600@zoeliakie-muenchen.de
SUMMARY:Zöliakie Stammtisch Tegernsee
DESCRIPTION:Zöliakie Stammtisch für alle Betroffenen und Angehörige im südlichen Münchner Umland und der Region Tegernsee.Bitte melde uns deine Teilnahme an\, damit wir genügend Plätze sicherstellen können.
URL:https://zoeliakie-muenchen.de/event/zoeliakie-stammtisch-tegernsee-230712/
LOCATION:Restaurant Luna Rossa\, Münchner Straße 138\, Gmund\, Bayern\, 83703
CATEGORIES:Erwachsene,Stammtisch
ATTACH;FMTTYPE=image/jpeg:https://zoeliakie-muenchen.de/wp-content/uploads/2021/12/Stammtisch_800_800.jpg
ORGANIZER;CN="Christa Porer":MAILTO:info@zoeliakie-suedbayern.de
END:VEVENT
END:VCALENDAR