BEGIN:VCALENDAR
VERSION:2.0
PRODID:-//Zöliakie Selbsthilfegruppe Südbayern - ECPv6.15.14//NONSGML v1.0//EN
CALSCALE:GREGORIAN
METHOD:PUBLISH
X-ORIGINAL-URL:https://zoeliakie-muenchen.de
X-WR-CALDESC:Veranstaltungen für Zöliakie Selbsthilfegruppe Südbayern
REFRESH-INTERVAL;VALUE=DURATION:PT1H
X-Robots-Tag:noindex
X-PUBLISHED-TTL:PT1H
BEGIN:VTIMEZONE
TZID:Europe/Berlin
BEGIN:DAYLIGHT
TZOFFSETFROM:+0100
TZOFFSETTO:+0200
TZNAME:CEST
DTSTART:20220327T010000
END:DAYLIGHT
BEGIN:STANDARD
TZOFFSETFROM:+0200
TZOFFSETTO:+0100
TZNAME:CET
DTSTART:20221030T010000
END:STANDARD
BEGIN:DAYLIGHT
TZOFFSETFROM:+0100
TZOFFSETTO:+0200
TZNAME:CEST
DTSTART:20230326T010000
END:DAYLIGHT
BEGIN:STANDARD
TZOFFSETFROM:+0200
TZOFFSETTO:+0100
TZNAME:CET
DTSTART:20231029T010000
END:STANDARD
BEGIN:DAYLIGHT
TZOFFSETFROM:+0100
TZOFFSETTO:+0200
TZNAME:CEST
DTSTART:20240331T010000
END:DAYLIGHT
BEGIN:STANDARD
TZOFFSETFROM:+0200
TZOFFSETTO:+0100
TZNAME:CET
DTSTART:20241027T010000
END:STANDARD
END:VTIMEZONE
BEGIN:VEVENT
DTSTART;TZID=Europe/Berlin:20231108T180000
DTEND;TZID=Europe/Berlin:20231108T210000
DTSTAMP:20260422T132615
CREATED:20221230T080406Z
LAST-MODIFIED:20221230T080406Z
UID:3512-1699466400-1699477200@zoeliakie-muenchen.de
SUMMARY:Zöliakie Stammtisch Tegernsee
DESCRIPTION:Zöliakie Stammtisch für alle Betroffenen und Angehörige im südlichen Münchner Umland und der Region Tegernsee.Bitte melde uns deine Teilnahme an\, damit wir genügend Plätze sicherstellen können.
URL:https://zoeliakie-muenchen.de/event/zoeliakie-stammtisch-tegernsee-231108/
LOCATION:Restaurant Luna Rossa\, Münchner Straße 138\, Gmund\, Bayern\, 83703
CATEGORIES:Erwachsene,Stammtisch
ATTACH;FMTTYPE=image/jpeg:https://zoeliakie-muenchen.de/wp-content/uploads/2021/12/Stammtisch_800_800.jpg
ORGANIZER;CN="Christa Porer":MAILTO:info@zoeliakie-suedbayern.de
END:VEVENT
BEGIN:VEVENT
DTSTART;TZID=Europe/Berlin:20231115T180000
DTEND;TZID=Europe/Berlin:20231115T193000
DTSTAMP:20260422T132616
CREATED:20221230T172613Z
LAST-MODIFIED:20230925T110950Z
UID:3554-1700071200-1700076600@zoeliakie-muenchen.de
SUMMARY:Online-Austausch für Neubetroffene
DESCRIPTION:Online-Austausch für Neubetroffene mit Hilfestellungen zu den wichtigsten Themen rund um Ernährung\, Einkaufen\, Essen ausser Haus – und euren persönlichen Fragen. Der Link zum Termin wird an die Teilnehmer vorab zugesendet.
URL:https://zoeliakie-muenchen.de/event/online-austausch-neubetroffene-231109/
LOCATION:Online
CATEGORIES:Erwachsene,Info & Beratung,Jugendliche,Kinder & Familien
ATTACH;FMTTYPE=image/jpeg:https://zoeliakie-muenchen.de/wp-content/uploads/2021/11/Neubetroffene_online_800_800.jpg
END:VEVENT
BEGIN:VEVENT
DTSTART;TZID=Europe/Berlin:20231121T180000
DTEND;TZID=Europe/Berlin:20231121T210000
DTSTAMP:20260422T132616
CREATED:20221231T055735Z
LAST-MODIFIED:20231003T120543Z
UID:3587-1700589600-1700600400@zoeliakie-muenchen.de
SUMMARY:Zöliakie Stammtisch München
DESCRIPTION:Zöliakie Stammtisch für alle Betroffenen und deren Angehörige in München. Bitte melde uns deine Teilnahme an\, damit wir genügend Plätze sicherstellen können.
URL:https://zoeliakie-muenchen.de/event/zoeliakie-stammtisch-muenchen-231121/
LOCATION:Pizzeria La Fantasia\, Seeriederstraße 5\, München\, 81675
CATEGORIES:Erwachsene,Stammtisch
ATTACH;FMTTYPE=image/jpeg:https://zoeliakie-muenchen.de/wp-content/uploads/2021/12/Muenchen_Frauenkirche_800_800.jpg
ORGANIZER;CN="Christa Porer":MAILTO:info@zoeliakie-suedbayern.de
END:VEVENT
BEGIN:VEVENT
DTSTART;TZID=Europe/Berlin:20231123T180000
DTEND;TZID=Europe/Berlin:20231123T220000
DTSTAMP:20260422T132616
CREATED:20221230T175441Z
LAST-MODIFIED:20231120T093359Z
UID:3581-1700762400-1700776800@zoeliakie-muenchen.de
SUMMARY:Christmas cheer without gluten fear: Glutenfreie Weihnachtsfeier
DESCRIPTION:Seid auch ihr total überrascht\, dass auf einmal überall Weihnachtsartikel verkauft werden? Wie\, der Sommer ist schon vorbei? Schneeengel was? Dann ist es vielleicht an der Zeit\, gemeinsam mit uns in Weihnachtsstimmung zu kommen! \nUnser glutenfreies Weihnachtsfest bietet hierfür den perfekten Rahmen – wir essen zusammen\, genießen  Glühwein oder Kinderpunsch und genießen glutenfreie Lebkuchen und andere Weihnachtsleckereien. \nDiese Veranstaltung richtet sich an alle Altersgruppen\, jedoch möchten wir dieses Mal auch ganz besonders unsere jungen Mitglieder einladen. Mitveranstalter ist Alexander Ulbrich (24 Jahre)\, der ab Frühjahr 2024 unter anderem für die Zielgruppe „junge Erwachsene“ tätig sein wird. Es wird für jeden etwas dabei sein\, bringt also gerne auch Familienmitglieder oder eine Begleitperson mit. \n 
URL:https://zoeliakie-muenchen.de/event/glutenfreie-weihnachtsfeier-231125/
LOCATION:Vi vadi Rustico\, Marsstraße 16\, München\, 80335\, Deutschland
CATEGORIES:Erwachsene,Feier,Jugendliche,Kinder & Familien
ATTACH;FMTTYPE=image/jpeg:https://zoeliakie-muenchen.de/wp-content/uploads/2021/11/Weihnachten_800_800.jpg
END:VEVENT
BEGIN:VEVENT
DTSTART;TZID=Europe/Berlin:20231124T140000
DTEND;TZID=Europe/Berlin:20231124T180000
DTSTAMP:20260422T132616
CREATED:20231015T183136Z
LAST-MODIFIED:20231015T183657Z
UID:4217-1700834400-1700848800@zoeliakie-muenchen.de
SUMMARY:Glutenfreies Weihnachtsbacken
DESCRIPTION:Plätzchen\, Plätzchen\, Plätzchen – beim glutenfreien Weihnachtsbacken bereiten wir alles für die Feiertage vor. Die Kosten sind ein Anhaltswert und hängen von der tatsächlichen Teilnehmerzahl ab.
URL:https://zoeliakie-muenchen.de/event/glutenfreies-weihnachtsbacken-231124/
LOCATION:Berufsfachschule für Diätetik\, Antonienstraße 6\, München\, 80802\, Deutschland
CATEGORIES:Erwachsene,Jugendliche,Kinder & Familien,Kochen & Backen
ATTACH;FMTTYPE=image/jpeg:https://zoeliakie-muenchen.de/wp-content/uploads/2021/10/zoeliakie-glutenunvertraeglichkeit-glutenfreie-ernaehrung-selbsthilfegruppe-suedbayern-muenchen.jpg
ORGANIZER;CN="Sandra Schmolz":MAILTO:s.schmolz@zoeliakie-suedbayern.de
END:VEVENT
BEGIN:VEVENT
DTSTART;TZID=Europe/Berlin:20231125T090000
DTEND;TZID=Europe/Berlin:20231125T130000
DTSTAMP:20260422T132616
CREATED:20221231T085359Z
LAST-MODIFIED:20230805T143836Z
UID:3671-1700902800-1700917200@zoeliakie-muenchen.de
SUMMARY:Glutenfreies Kochen - Theorie & Praxis für Jugendliche (5.- 7. Klasse)
DESCRIPTION:Die Weihnachtszeit beginnt ! \nDu brauchst Ideen\, Rezepte und Tipps rund um eine glutenfreie Adventszeit ? In unserem Kurs lernst du ein glutenfreies Weihnachtsessen zu kochen: \nRahmgulasch mit selbstgehobelten Spätzle und Salat. Als vegetarische Alternative bereiten wir Spätzle mit Schwammerlsoße zu. Zum Naschen danach backen wir verschiedene Weihnachtsplatzerl\, z.B. Pistazienplätzchen\, Spitzbuben\, Nussecken. \nAlles rund ums glutenfreie Kochen und das gemeinsame Essen wollen wir zusammen erkunden und somit dieses\, vielleicht manchmal schwierige und kräftezehrende Thema\, auf leichte Weise angehen. \nUnser Kochmotto: Wir können allein ganz viel\, aber im Team sind wir stärker ! \nAlle Ziele und Inhalte dienen dem Aufbau eines Netzwerks\, der Stärkung der Gemeischaft und dem Austausch mit gleichaltrigen Betroffenen. Eine zusammen entworfene Tischdekoration und ungezwungene Gespräche runden unseren Kurs ab. \nZustätzlich erwartet dich: \n-Training zum Lesen von Zutatenlisten\, Rezepten und Kennzeichnung von verpackten Nahrungsmitteln\, mit Hinblick auf die Diät ( vorbereitet in der Praxis oder beim gemeinsamen Einkauf). \n-Stärkung des altersentsprechenden\, sicheren Umgangs mit der glutenfreien Diät nach den Leitlinien der DZG. Besprechung von Gefahrenquellen. \n-Allgemeine Lebensmittelkunde mit weiteren Tipps im Hinblick auf die Diät. \n-Rezepte zum Mitnehmen und leichtes Nachmachen daheim garantiert. \nBitte feste Schuhe\, kleine Dosen für Probierreste und eine Plätzchendose mitbringen ! \nAllgemeines: \nWorkshop mit Ivonne Stötzer und Axel Eichenseher\, Dauer inkl. gemeinsamen Essen 4 Std. d.h. von 9 – 13 Uhr / Kursgröße: 4-8 TeilnehmerInnen / Der Kurs findet ohne Eltern in der Praxis Stötzer in Krailing statt. Der Kurs wird gefördert vom Runden Tisch der Münchner Krankenkassen. Anmeldeschluß ist der 20.11.2023. Nach Ihrer Anmeldung über den Anmeldebutton erhalten Sie von uns eine automatisierte Reservierungsbestättigung. Später dann eine Email von Wilma Ruhs mit detailliertem Anmeldbogen und DZG-Kontonr. für die Überweisung der Kursgebühr. Sobald die maximale Teilnehmeranzahl von 8 erreicht ist erhalten Sie einen Platz auf der Warteliste. \nFür Rückfragen stehe ich Dir / Ihnen gerne unter 0171-4762948 (Handynr. Wilma Ruhs\, Kontaktperson der DZG Gruppe München) zur Verfügung. \nWir freuen uns auf dich\, Ivonne\, Axel und Wilma
URL:https://zoeliakie-muenchen.de/event/glutenfreies-kochen-jugendliche-231125/
LOCATION:Krailling\, Auenstraße 4a\, Krailling\, 82152\, Deutschland
CATEGORIES:Info & Beratung,Jugendliche,Kochen & Backen
ATTACH;FMTTYPE=image/jpeg:https://zoeliakie-muenchen.de/wp-content/uploads/2022/12/Kochen_Kinder_800_800.jpg
ORGANIZER;CN="Wilma Ruhs":MAILTO:w.ruhs@zoeliakie-suedbayern.de
END:VEVENT
BEGIN:VEVENT
DTSTART;TZID=Europe/Berlin:20231125T150000
DTEND;TZID=Europe/Berlin:20231125T190000
DTSTAMP:20260422T132616
CREATED:20221231T085507Z
LAST-MODIFIED:20230805T145147Z
UID:3670-1700924400-1700938800@zoeliakie-muenchen.de
SUMMARY:Glutenfreies Kochen - Theorie & Praxis für Jugendliche (ab 8. Klasse)
DESCRIPTION:Die Weihnachtszeit beginnt ! \nDu brauchst Ideen\, Rezepte und Tipps rund um eine glutenfreie Adventszeit ? \nIn unserem Kurs lernst du ein glutenfreies Weihnachtsessen zu kochen: \nRahmgulasch mit selbstgehobelten Spätzle und Salat. Als vegetarische Alternative bereiten wir Spätzle mit Schwammerlsoße zu. Zum Naschen danach backen wir verschiedene Weihnachtsplatzerl\, z.B. Pistazienplätzchen\, Spitzbuben\, Nussecken. \nDu willst gleichaltrige Betroffene kennenlernen ? Dann melde dich an\, koche mit und es gibt ganz viel Zeit für Austausch und Ratschen. \nUnser Kochmotto: Wir können allein ganz viel\, aber im Team sind wir stärker ! \nAlle Ziele und Inhalte dienen dem Aufbau eines Netzwerks\, der Stärkung der Gemeischaft und dem Austausch mit gleichaltrigen Betroffenen. Eine zusammen entworfene Tischdekoration und ungezwungene Gespräche runden unseren Kurs ab. \nZustätzlich erwartet dich: \n-Training zum Lesen von Zutatenlisten\, Rezepten und Kennzeichnung von verpackten Nahrungsmitteln\, mit Hinblick auf die Diät ( vorbereitet in der Praxis oder beim gemeinsamen Einkauf). \n-Stärkung des sicheren Umgangs mit der glutenfreien Diät nach den Leitlinien der DZG. Besprechung von Gefahrenquellen. \n-Allgemeine Lebensmittelkunde mit weiteren Tipps im Hinblick auf die Diät. \n-Rezepte zum Mitnehmen und leichtes Nachmachen daheim garantiert. \nBitte kleine Dosen für Probierreste und eine Plätzchendose mitbringen ! \nAllgemeines: \nWorkshop mit Ivonne Stötzer und Axel Eichenseher\, Dauer inkl. gemeinsamen Essen 4 Std. d.h. von 15-19 Uhr / Kursgröße: 4-8 TeilnehmerInnen / Der Kurs findet ohne Eltern in der Praxis Stötzer in Krailing statt. Der Kurs wird gefördert vom Runden Tisch der Münchner Krankenkassen. Anmeldeschluß ist der 10.11.2023. Nach Ihrer Anmeldung über den Anmeldebutton erhalten Sie von uns eine automatisierte Reservierungsbestättigung. Später dann eine Email von Wilma Ruhs mit detailliertem Anmeldbogen und DZG-Kontonr. für die Überweisung der Kursgebühr. Sobald die maximale Teilnehmeranzahl von 8 erreicht ist erhalten Sie einen Platz auf der Warteliste. \nFür Rückfragen stehe ich Dir / Ihnen gerne unter 0171-4762948 (Handynr. Wilma Ruhs\, Kontaktperson der DZG Gruppe München) zur Verfügung. \nWir freuen uns auf dich\, Ivonne\, Axel und Wilma
URL:https://zoeliakie-muenchen.de/event/glutenfreies-kochen-jugendliche-ab-8-klasse-231126/
LOCATION:Krailling\, Auenstraße 4a\, Krailling\, 82152\, Deutschland
CATEGORIES:Info & Beratung,Jugendliche,Kochen & Backen
ATTACH;FMTTYPE=image/jpeg:https://zoeliakie-muenchen.de/wp-content/uploads/2022/12/Kochen_Jugendliche_800_800.jpg
ORGANIZER;CN="Wilma Ruhs":MAILTO:w.ruhs@zoeliakie-suedbayern.de
END:VEVENT
BEGIN:VEVENT
DTSTART;TZID=Europe/Berlin:20231126T090000
DTEND;TZID=Europe/Berlin:20231126T130000
DTSTAMP:20260422T132616
CREATED:20221231T085248Z
LAST-MODIFIED:20230805T143225Z
UID:3672-1700989200-1701003600@zoeliakie-muenchen.de
SUMMARY:Glutenfreies Kochen - Theorie & Praxis für GrundschülerInnen (2. - 4. Klasse)
DESCRIPTION:Die Weihnachtszeit beginnt ! \nDu brauchst Ideen\, Rezepte und Tipps rund um eine glutenfreie Adventszeit ? In unserem Kurs lernst du ein glutenfreies Weihnachtsessen zu kochen: \nRahmgulasch mit selbstgehobelten Spätzle und Salat. Als vegetarische Alternative bereiten wir Spätzle mit Schwammerlsoße zu. Zum Naschen danach backen wir verschiedene Weihnachtsplatzerl\, z.B. Pistazienplätzchen\, Spitzbuben\, Nussecken. \nAlles rund ums glutenfreie Kochen und das gemeinsame Essen wollen wir zusammen erkunden und somit dieses\, vielleicht manchmal schwierige und kräftezehrende Familienthema\, auf leichte Weise angehen. \nUnser Kochmotto: Wir können allein ganz viel\, aber im Team sind wir stärker ! \nAlle Ziele und Inhalte dienen dem Aufbau eines Netzwerks\, der Stärkung der Gemeischaft und dem Austausch mit gleichaltrigen Betroffenen. Eine zusammen entworfene Tischdekoration und ungezwungene Gespräche runden unseren Kurs ab. \nZustätzlich erwartet dich: \n-Training zum Lesen von Zutatenlisten\, Rezepten und Kennzeichnung von verpackten Nahrungsmitteln\, mit Hinblick auf die Diät ( vorbereitet in der Praxis oder beim gemeinsamen Einkauf). \n-Stärkung des altersentsprechenden\, sicheren Umgangs mit der glutenfreien Diät nach den Leitlinien der DZG. Besprechung von Gefahrenquellen. \n-Allgemeine Lebensmittelkunde mit weiteren Tipps im Hinblick auf die Diät. \n-Rezepte zum Mitnehmen und leichtes Nachmachen daheim garantiert. \nBitte feste Schuhe\, kleine Dosen für Probierreste und eine Plätzchendose mitbringen ! \nAllgemeines: \nWorkshop mit Ivonne Stötzer und Axel Eichenseher\, Dauer inkl. gemeinsamen Essen 4 Std. d.h. von 9 – 13 Uhr / Kursgröße: 4-10 TeilnehmerInnen / Der Kurs findet ohne Eltern in der Praxis Stötzer in Krailing statt. Der Kurs wird gefördert vom Runden Tisch der Münchner Krankenkassen. Anmeldeschluß ist der 20.November 2023. Nach Ihrer Anmeldung über den Anmeldebutton erhalten Sie von uns eine automatisierte Reservierungsbestättigung. Später dann eine Email von Wilma Ruhs mit detailliertem Anmeldbogen und DZG-Kontonr. für die Überweisung der Kursgebühr. Sobald die maximale Teilnehmeranzahl von 10 erreicht ist erhalten Sie einen Platz auf der Warteliste. \nFür Rückfragen stehe ich Dir / Ihnen gerne unter 0171-4762948 (Handynr. Wilma Ruhs\, Kontaktperson der DZG Gruppe München) zur Verfügung. \nWir freuen uns auf dich\, Ivonne\, Axel und Wilma \n  \n  \n  \n  \n  \n 
URL:https://zoeliakie-muenchen.de/event/glutenfreies-kochen-grundschuelerinnen-231125/
LOCATION:Krailling\, Auenstraße 4a\, Krailling\, 82152\, Deutschland
CATEGORIES:Info & Beratung,Kinder & Familien,Kochen & Backen
ATTACH;FMTTYPE=image/jpeg:https://zoeliakie-muenchen.de/wp-content/uploads/2022/12/Kochen_Kleinkinder_800_800.jpg
ORGANIZER;CN="Wilma Ruhs":MAILTO:w.ruhs@zoeliakie-suedbayern.de
END:VEVENT
END:VCALENDAR