BEGIN:VCALENDAR
VERSION:2.0
PRODID:-//Zöliakie Selbsthilfegruppe Südbayern - ECPv6.15.14//NONSGML v1.0//EN
CALSCALE:GREGORIAN
METHOD:PUBLISH
X-ORIGINAL-URL:https://zoeliakie-muenchen.de
X-WR-CALDESC:Veranstaltungen für Zöliakie Selbsthilfegruppe Südbayern
REFRESH-INTERVAL;VALUE=DURATION:PT1H
X-Robots-Tag:noindex
X-PUBLISHED-TTL:PT1H
BEGIN:VTIMEZONE
TZID:Europe/Berlin
BEGIN:DAYLIGHT
TZOFFSETFROM:+0100
TZOFFSETTO:+0200
TZNAME:CEST
DTSTART:20220327T010000
END:DAYLIGHT
BEGIN:STANDARD
TZOFFSETFROM:+0200
TZOFFSETTO:+0100
TZNAME:CET
DTSTART:20221030T010000
END:STANDARD
BEGIN:DAYLIGHT
TZOFFSETFROM:+0100
TZOFFSETTO:+0200
TZNAME:CEST
DTSTART:20230326T010000
END:DAYLIGHT
BEGIN:STANDARD
TZOFFSETFROM:+0200
TZOFFSETTO:+0100
TZNAME:CET
DTSTART:20231029T010000
END:STANDARD
BEGIN:DAYLIGHT
TZOFFSETFROM:+0100
TZOFFSETTO:+0200
TZNAME:CEST
DTSTART:20240331T010000
END:DAYLIGHT
BEGIN:STANDARD
TZOFFSETFROM:+0200
TZOFFSETTO:+0100
TZNAME:CET
DTSTART:20241027T010000
END:STANDARD
END:VTIMEZONE
BEGIN:VEVENT
DTSTART;TZID=Europe/Berlin:20231201T160000
DTEND;TZID=Europe/Berlin:20231201T200000
DTSTAMP:20260422T120223
CREATED:20221230T081420Z
LAST-MODIFIED:20221230T081420Z
UID:3544-1701446400-1701460800@zoeliakie-muenchen.de
SUMMARY:Backkurs glutenfreie Platzerl
DESCRIPTION:Wir backen gemeinsam glutenfreie Weihnachtsplätzchen – zum Naschen und zum Mitnehmen nach Hause. Bitte melde uns deine Teilnahme an\, damit wir genügend Plätze sicherstellen können.Der Preis ist ein Anhaltswert und hängt von der Anzahl der Teilnehmer ab.
URL:https://zoeliakie-muenchen.de/event/backkurs-glutenfreie-platzerl-231201/
LOCATION:Rottach Egern
CATEGORIES:Erwachsene,Jugendliche,Kinder & Familien,Kochen & Backen
ATTACH;FMTTYPE=image/jpeg:https://zoeliakie-muenchen.de/wp-content/uploads/2021/12/Weihnachtsplaetzchen_800_800.jpg
ORGANIZER;CN="Christa Porer":MAILTO:info@zoeliakie-suedbayern.de
END:VEVENT
BEGIN:VEVENT
DTSTART;TZID=Europe/Berlin:20231203T120000
DTEND;TZID=Europe/Berlin:20231203T150000
DTSTAMP:20260422T120223
CREATED:20221230T063506Z
LAST-MODIFIED:20221230T063506Z
UID:3495-1701604800-1701615600@zoeliakie-muenchen.de
SUMMARY:Zöliakie Stammtisch für Familien
DESCRIPTION:Zöliakie Stammtisch für Familien mit betroffenen Kindern und Angehörigen. Bitte melde uns deine Teilnahme an\, damit wir genügend Plätze sicherstellen können.
URL:https://zoeliakie-muenchen.de/event/zoeliakie-stammtisch-familien-231203/
LOCATION:Wirtshaus am Bavariapark\, Theresienhöhe 15\, München\, 80339
CATEGORIES:Kinder & Familien,Stammtisch
ATTACH;FMTTYPE=image/jpeg:https://zoeliakie-muenchen.de/wp-content/uploads/2022/12/Schnitzel_800_800.jpg
ORGANIZER;CN="Florian Rapp":MAILTO:f.rapp@zoeliakie-suedbayern.de
END:VEVENT
BEGIN:VEVENT
DTSTART;TZID=Europe/Berlin:20231213T180000
DTEND;TZID=Europe/Berlin:20231213T210000
DTSTAMP:20260422T120223
CREATED:20221230T080550Z
LAST-MODIFIED:20221230T080550Z
UID:3511-1702490400-1702501200@zoeliakie-muenchen.de
SUMMARY:Zöliakie Stammtisch Tegernsee
DESCRIPTION:Zöliakie Stammtisch für alle Betroffenen und Angehörige im südlichen Münchner Umland und der Region Tegernsee.Bitte melde uns deine Teilnahme an\, damit wir genügend Plätze sicherstellen können.
URL:https://zoeliakie-muenchen.de/event/zoeliakie-stammtisch-tegernsee-231213/
LOCATION:Restaurant Luna Rossa\, Münchner Straße 138\, Gmund\, Bayern\, 83703
CATEGORIES:Erwachsene,Stammtisch
ATTACH;FMTTYPE=image/jpeg:https://zoeliakie-muenchen.de/wp-content/uploads/2021/12/Stammtisch_800_800.jpg
ORGANIZER;CN="Christa Porer":MAILTO:info@zoeliakie-suedbayern.de
END:VEVENT
BEGIN:VEVENT
DTSTART;TZID=Europe/Berlin:20231219T180000
DTEND;TZID=Europe/Berlin:20231219T210000
DTSTAMP:20260422T120223
CREATED:20221231T060012Z
LAST-MODIFIED:20231204T161709Z
UID:3586-1703008800-1703019600@zoeliakie-muenchen.de
SUMMARY:Zöliakie Stammtisch München
DESCRIPTION:Zöliakie Stammtisch für alle Betroffenen und deren Angehörige in München. Bitte melde uns deine Teilnahme an\, damit wir genügend Plätze sicherstellen können.
URL:https://zoeliakie-muenchen.de/event/zoeliakie-stammtisch-muenchen-231219/
LOCATION:Pizzeria La Fantasia\, Seeriederstraße 5\, München\, 81675
CATEGORIES:Erwachsene,Stammtisch
ATTACH;FMTTYPE=image/jpeg:https://zoeliakie-muenchen.de/wp-content/uploads/2021/12/Muenchen_Frauenkirche_800_800.jpg
ORGANIZER;CN="Christa Porer":MAILTO:info@zoeliakie-suedbayern.de
END:VEVENT
END:VCALENDAR