BEGIN:VCALENDAR
VERSION:2.0
PRODID:-//Zöliakie Selbsthilfegruppe Südbayern - ECPv6.15.14//NONSGML v1.0//EN
CALSCALE:GREGORIAN
METHOD:PUBLISH
X-ORIGINAL-URL:https://zoeliakie-muenchen.de
X-WR-CALDESC:Veranstaltungen für Zöliakie Selbsthilfegruppe Südbayern
REFRESH-INTERVAL;VALUE=DURATION:PT1H
X-Robots-Tag:noindex
X-PUBLISHED-TTL:PT1H
BEGIN:VTIMEZONE
TZID:Europe/Berlin
BEGIN:DAYLIGHT
TZOFFSETFROM:+0100
TZOFFSETTO:+0200
TZNAME:CEST
DTSTART:20230326T010000
END:DAYLIGHT
BEGIN:STANDARD
TZOFFSETFROM:+0200
TZOFFSETTO:+0100
TZNAME:CET
DTSTART:20231029T010000
END:STANDARD
BEGIN:DAYLIGHT
TZOFFSETFROM:+0100
TZOFFSETTO:+0200
TZNAME:CEST
DTSTART:20240331T010000
END:DAYLIGHT
BEGIN:STANDARD
TZOFFSETFROM:+0200
TZOFFSETTO:+0100
TZNAME:CET
DTSTART:20241027T010000
END:STANDARD
BEGIN:DAYLIGHT
TZOFFSETFROM:+0100
TZOFFSETTO:+0200
TZNAME:CEST
DTSTART:20250330T010000
END:DAYLIGHT
BEGIN:STANDARD
TZOFFSETFROM:+0200
TZOFFSETTO:+0100
TZNAME:CET
DTSTART:20251026T010000
END:STANDARD
END:VTIMEZONE
BEGIN:VEVENT
DTSTART;TZID=Europe/Berlin:20240308T140000
DTEND;TZID=Europe/Berlin:20240308T170000
DTSTAMP:20260422T072234
CREATED:20240104T210511Z
LAST-MODIFIED:20240104T210511Z
UID:4562-1709906400-1709917200@zoeliakie-muenchen.de
SUMMARY:Glutenfreies Osterbacken
DESCRIPTION:Hasen\, Lämmer und jede Menge Hefezopf – beim glutenfreien Osterbacken bereiten wir alles für die Feiertage vor. Die Kosten sind ein grober Anhaltswert und hängen von der tatsächlichen Teilnehmerzahl ab.
URL:https://zoeliakie-muenchen.de/event/glutenfreies-osterbacken-240308/
LOCATION:Berufsfachschule für Diätetik\, Antonienstraße 6\, München\, 80802\, Deutschland
CATEGORIES:Erwachsene,Jugendliche,Kinder & Familien,Kochen & Backen
ATTACH;FMTTYPE=image/jpeg:https://zoeliakie-muenchen.de/wp-content/uploads/2021/12/Osterbacken_800_800.jpg
ORGANIZER;CN="Sandra Schmolz":MAILTO:s.schmolz@zoeliakie-suedbayern.de
END:VEVENT
BEGIN:VEVENT
DTSTART;TZID=Europe/Berlin:20240313T180000
DTEND;TZID=Europe/Berlin:20240313T210000
DTSTAMP:20260422T072234
CREATED:20240104T155851Z
LAST-MODIFIED:20240104T155851Z
UID:4381-1710352800-1710363600@zoeliakie-muenchen.de
SUMMARY:Zöliakie Stammtisch Tegernsee
DESCRIPTION:Zöliakie Stammtisch für alle Betroffenen und Angehörige im südlichen Münchner Umland und der Region Tegernsee.Bitte melde uns deine Teilnahme an\, damit wir genügend Plätze sicherstellen können.
URL:https://zoeliakie-muenchen.de/event/zoeliakie-stammtisch-tegernsee-240313/
LOCATION:Restaurant Luna Rossa\, Münchner Straße 138\, Gmund\, Bayern\, 83703
CATEGORIES:Erwachsene,Stammtisch
ATTACH;FMTTYPE=image/jpeg:https://zoeliakie-muenchen.de/wp-content/uploads/2021/12/Stammtisch_800_800.jpg
ORGANIZER;CN="Christa Porer":MAILTO:info@zoeliakie-suedbayern.de
END:VEVENT
BEGIN:VEVENT
DTSTART;TZID=Europe/Berlin:20240316T100000
DTEND;TZID=Europe/Berlin:20240316T123000
DTSTAMP:20260422T072234
CREATED:20240104T201322Z
LAST-MODIFIED:20240220T174303Z
UID:4533-1710583200-1710592200@zoeliakie-muenchen.de
SUMMARY:Glutenfreies Kochen Praxis (ohne Theorie) für GrundschülerInnen (1. - 3. Klasse)
DESCRIPTION:Alles rund ums glutenfreie Kochen und das gemeinsame Essen wollen wir zusammen erkunden und somit dieses\, vielleicht manchmal schwierige und kräftezehrende Familienthema\, auf leichte Weise angehen. \nUnser Kochmotto: Wir können allein ganz viel\, aber im Team sind wir stärker ! \nAlle Ziele und Inhalte dienen dem Aufbau eines Netzwerks\, der Stärkung der Gemeischaft und dem Austausch mit gleichaltrigen Betroffenen. Eine zusammen entworfene Tischdekoration und ungezwungene Gespräche runden unseren Kurs ab. \nBitte feste Schuhe und eine kleine Dosen für Probierreste mitbringen ! \nAllgemeines: \nWorkshop mit Ivonne Stötzer und Axel Eichenseher\, Dauer inkl. gemeinsamen Essen 2\,5 Std. d.h. von 10 – 12.30 Uhr / Kursgröße: 4-8 TeilnehmerInnen / Der Kurs findet ohne Eltern in der Praxis Stötzer in Krailing statt. \nBitte um Anmeldung über den Anmeldebutton. Nach der Anmeldung wird eine automatische Anmeldebestättigung versendet. Sollte der Kochkurs mit 8 teilnehmerInnen bereits ausgebucht sein werden noch 2 Wartelisten-Plätze vergeben. Ca. 3 Wochen vor Kursbeginn werden die über den Button angemeldeten TeilnehmerInnen per Email von uns angeschrieben und über Kursdetails informiert sowie um die Zahlung der Kursgebühr gebeten. \nFür Rückfragen stehe ich Dir / Ihnen gerne unter 0171-4762948 (Handynr. Wilma Ruhs\, Kontaktperson der DZG Gruppe München) zur Verfügung. \nWir freuen uns auf dich\, \nliebe Grüße\, Ivonne und Axel
URL:https://zoeliakie-muenchen.de/event/glutenfreies-kochen-praxis-fuer-grundschuelerinnen-1-3-klasse-240316/
LOCATION:Krailling\, Auenstraße 4a\, Krailling\, 82152\, Deutschland
CATEGORIES:Info & Beratung,Kinder & Familien,Kochen & Backen
ATTACH;FMTTYPE=image/jpeg:https://zoeliakie-muenchen.de/wp-content/uploads/2022/12/Kochen_Kleinkinder_800_800.jpg
ORGANIZER;CN="Wilma Ruhs":MAILTO:w.ruhs@zoeliakie-suedbayern.de
END:VEVENT
BEGIN:VEVENT
DTSTART;TZID=Europe/Berlin:20240316T140000
DTEND;TZID=Europe/Berlin:20240316T163000
DTSTAMP:20260422T072234
CREATED:20240104T201618Z
LAST-MODIFIED:20240220T174400Z
UID:4531-1710597600-1710606600@zoeliakie-muenchen.de
SUMMARY:Glutenfreies Kochen Praxis (ohne Theorie) für Jugendliche (4.- 6. Klasse)
DESCRIPTION:Alles rund ums glutenfreie Kochen und das gemeinsame Essen wollen wir zusammen erkunden und somit dieses\, vielleicht manchmal schwierige und kräftezehrende Familienthema\, auf leichte Weise angehen. \nUnser Kochmotto: Wir können allein ganz viel\, aber im Team sind wir stärker ! \nAlle Ziele und Inhalte dienen dem Aufbau eines Netzwerks\, der Stärkung der Gemeischaft und dem Austausch mit gleichaltrigen Betroffenen. Eine zusammen entworfene Tischdekoration und ungezwungene Gespräche runden unseren Kurs ab. \nBitte feste Schuhe und kleine Dosen für Probierreste mitbringen ! \nAllgemeines: \nWorkshop mit Ivonne Stötzer und Axel Eichenseher\, Dauer inkl. gemeinsamen Essen 2\,5 Std. d.h. von 14 – 16.30 Uhr / Kursgröße: 4-8 TeilnehmerInnen / Der Kurs findet ohne Eltern in der Praxis Stötzer in Krailing statt. \nBitte um Anmeldung über den Anmeldebutton. Nach der Anmeldung wird eine automatische Anmeldebestättigung versendet. Sollte der Kochkurs mit 8 teilnehmerInnen bereits ausgebucht sein werden noch 2 Wartelisten-Plätze vergeben. Ca. 3 Wochen vor Kursbeginn werden die über den Button angemeldeten TeilnehmerInnen per Email von uns angeschrieben und über Kursdetails informiert sowie um die Zahlung der Kursgebühr gebeten. \nFür Rückfragen stehe ich Dir / Ihnen gerne unter 0171-4762948 (Handynr. Wilma Ruhs\, Kontaktperson der DZG Gruppe München) zur Verfügung. \nWir freuen uns auf dich\, \nLiebe Grüße Ivonne und Axel
URL:https://zoeliakie-muenchen.de/event/glutenfreies-kochen-praxis-fuer-jugendliche-4-6-klasse-240316/
LOCATION:Krailling\, Auenstraße 4a\, Krailling\, 82152\, Deutschland
CATEGORIES:Info & Beratung,Jugendliche,Kochen & Backen
ATTACH;FMTTYPE=image/jpeg:https://zoeliakie-muenchen.de/wp-content/uploads/2022/12/Kochen_Kinder_800_800.jpg
ORGANIZER;CN="Wilma Ruhs":MAILTO:w.ruhs@zoeliakie-suedbayern.de
END:VEVENT
BEGIN:VEVENT
DTSTART;TZID=Europe/Berlin:20240320T180000
DTEND;TZID=Europe/Berlin:20240320T210000
DTSTAMP:20260422T072234
CREATED:20240109T201123Z
LAST-MODIFIED:20240203T202212Z
UID:4691-1710957600-1710968400@zoeliakie-muenchen.de
SUMMARY:Zöliakie Stammtisch München
DESCRIPTION:Zöliakie Stammtisch für alle Betroffenen und deren Angehörige in München. Bitte melde uns deine Teilnahme an\, damit wir genügend Plätze sicherstellen können.
URL:https://zoeliakie-muenchen.de/event/zoeliakie-stammtisch-muenchen-240320/
LOCATION:Taverne Naxos\, Verdistraße 33\, München\, 81247\, Deutschland
CATEGORIES:Erwachsene,Stammtisch
ATTACH;FMTTYPE=image/jpeg:https://zoeliakie-muenchen.de/wp-content/uploads/2021/12/Muenchen_Frauenkirche_800_800.jpg
ORGANIZER;CN="Christa Porer":MAILTO:info@zoeliakie-suedbayern.de
END:VEVENT
BEGIN:VEVENT
DTSTART;TZID=Europe/Berlin:20240322T160000
DTEND;TZID=Europe/Berlin:20240322T200000
DTSTAMP:20260422T072234
CREATED:20240108T203329Z
LAST-MODIFIED:20240301T195240Z
UID:4634-1711123200-1711137600@zoeliakie-muenchen.de
SUMMARY:Glutenfreies Osterbacken
DESCRIPTION:Hasen\, Lämmer und Hefegebäck – beim glutenfreien Osterbacken bereiten wir alles für die Feiertage vor. Wir backen gemeinsam verschiedene Zopfvarianten\, Plätzchen und Kuchen. Im Anschluss gibt es zum Ausklang noch ein gemeinsames Abendessen in der Backstube. Bitte Dosen und Schürzen mitbringen. \nPreise für die Teilnahme: \n\n50€ je Familie\n20€ je Einzelperson\n\n  \nNach der Anmeldung hier auf der Seite erhaltet ihr die Informationen für die Zahlung sowie für den genauen Veranstaltungsort. Bitte beachtet\, dass wir die Kurse leider nur mit Vorkasse darstellen können.
URL:https://zoeliakie-muenchen.de/event/glutenfreies-osterbacken-240322/
LOCATION:Rottach Egern
CATEGORIES:Erwachsene,Jugendliche,Kinder & Familien,Kochen & Backen
ATTACH;FMTTYPE=image/jpeg:https://zoeliakie-muenchen.de/wp-content/uploads/2021/12/Osterbacken_800_800.jpg
ORGANIZER;CN="Florian Rapp":MAILTO:f.rapp@zoeliakie-suedbayern.de
END:VEVENT
BEGIN:VEVENT
DTSTART;TZID=Europe/Berlin:20240322T190000
DTEND;TZID=Europe/Berlin:20240322T203000
DTSTAMP:20260422T072234
CREATED:20240104T203052Z
LAST-MODIFIED:20240104T203052Z
UID:4537-1711134000-1711139400@zoeliakie-muenchen.de
SUMMARY:Online-Austausch & Beratung für Eltern
DESCRIPTION:Fragen und Antworten mit erfahrenen Kontaktpersonen und Eltern untereinander zum Umgang mit von Zöliakie betroffenen Kindern. Der Link zum Termin wird vorab an die Teilnehmer zugesendet.
URL:https://zoeliakie-muenchen.de/event/online-austausch-beratung-eltern-240322/
LOCATION:Online
CATEGORIES:Info & Beratung,Kinder & Familien
ATTACH;FMTTYPE=image/jpeg:https://zoeliakie-muenchen.de/wp-content/uploads/2021/11/Neubetroffene_online_800_800.jpg
ORGANIZER;CN="Wilma Ruhs":MAILTO:w.ruhs@zoeliakie-suedbayern.de
END:VEVENT
END:VCALENDAR