BEGIN:VCALENDAR
VERSION:2.0
PRODID:-//Zöliakie Selbsthilfegruppe Südbayern - ECPv6.15.14//NONSGML v1.0//EN
CALSCALE:GREGORIAN
METHOD:PUBLISH
X-WR-CALNAME:Zöliakie Selbsthilfegruppe Südbayern
X-ORIGINAL-URL:https://zoeliakie-muenchen.de
X-WR-CALDESC:Veranstaltungen für Zöliakie Selbsthilfegruppe Südbayern
REFRESH-INTERVAL;VALUE=DURATION:PT1H
X-Robots-Tag:noindex
X-PUBLISHED-TTL:PT1H
BEGIN:VTIMEZONE
TZID:Europe/Berlin
BEGIN:DAYLIGHT
TZOFFSETFROM:+0100
TZOFFSETTO:+0200
TZNAME:CEST
DTSTART:20230326T010000
END:DAYLIGHT
BEGIN:STANDARD
TZOFFSETFROM:+0200
TZOFFSETTO:+0100
TZNAME:CET
DTSTART:20231029T010000
END:STANDARD
BEGIN:DAYLIGHT
TZOFFSETFROM:+0100
TZOFFSETTO:+0200
TZNAME:CEST
DTSTART:20240331T010000
END:DAYLIGHT
BEGIN:STANDARD
TZOFFSETFROM:+0200
TZOFFSETTO:+0100
TZNAME:CET
DTSTART:20241027T010000
END:STANDARD
BEGIN:DAYLIGHT
TZOFFSETFROM:+0100
TZOFFSETTO:+0200
TZNAME:CEST
DTSTART:20250330T010000
END:DAYLIGHT
BEGIN:STANDARD
TZOFFSETFROM:+0200
TZOFFSETTO:+0100
TZNAME:CET
DTSTART:20251026T010000
END:STANDARD
END:VTIMEZONE
BEGIN:VEVENT
DTSTART;TZID=Europe/Berlin:20240612T180000
DTEND;TZID=Europe/Berlin:20240612T210000
DTSTAMP:20260422T025100
CREATED:20240104T160315Z
LAST-MODIFIED:20240104T160315Z
UID:4387-1718215200-1718226000@zoeliakie-muenchen.de
SUMMARY:Zöliakie Stammtisch Tegernsee
DESCRIPTION:Zöliakie Stammtisch für alle Betroffenen und Angehörige im südlichen Münchner Umland und der Region Tegernsee.Bitte melde uns deine Teilnahme an\, damit wir genügend Plätze sicherstellen können.
URL:https://zoeliakie-muenchen.de/event/zoeliakie-stammtisch-tegernsee-240612/
LOCATION:Restaurant Luna Rossa\, Münchner Straße 138\, Gmund\, Bayern\, 83703
CATEGORIES:Erwachsene,Stammtisch
ATTACH;FMTTYPE=image/jpeg:https://zoeliakie-muenchen.de/wp-content/uploads/2021/12/Stammtisch_800_800.jpg
ORGANIZER;CN="Christa Porer":MAILTO:info@zoeliakie-suedbayern.de
END:VEVENT
BEGIN:VEVENT
DTSTART;TZID=Europe/Berlin:20240615T090000
DTEND;TZID=Europe/Berlin:20240615T130000
DTSTAMP:20260422T025100
CREATED:20240104T195545Z
LAST-MODIFIED:20240415T151410Z
UID:4507-1718442000-1718456400@zoeliakie-muenchen.de
SUMMARY:Glutenfreies Kochen - Theorie & Praxis für Jugendliche (4.- 6. Klasse)
DESCRIPTION:Der Sommer steht vor der Tür ! \nDu brauchst Ideen\, Rezepte und Tipps rund um eine leckere\, erfolgreiche und glutenfreie Grillparty ? In unserem Kurs lernst du eigene Marinaden für Gemüse und Fleisch herzustellen und dies alles zu grillen. Wir bereiten Ofenkartoffeln mit Sour Creme / Guacamole und bunten Blattsalat mit selbstgemachtem Dressing zu. Als Nachspeise gibt es eine Erdbeertiramisu. Zur Erfrischung machen wir selbst Zitronenlimonade. \n\nAlles rund ums glutenfreie Kochen und das gemeinsame Essen wollen wir zusammen erkunden und somit dieses\, vielleicht manchmal schwierige und kräftezehrende Familienthema \, auf leichte Weise angehen. \nUnser Kochmotto: Wir können allein ganz viel\, aber im Team sind wir stärker ! Alle Ziele und Inhalte dienen dem Aufbau eines Netzwerks\, der Stärkung der Gemeinschaft und dem Austausch mit gleichaltrigen Betroffenen. \nZusätzlich erwartet dich: Training zum Lesen von Zutatenlisten\, Rezepten und Kennzeichnung von verpackten Nahrungsmitteln\, mit Hinblick auf die Diät (vorbereitet in der Praxis oder beim gemeinsamen Einkauf) . Stärkung des altersentsprechenden\, sicheren Umgangs mit der glutenfreien Diät nach den Leitlinien der DZG. Besprechung von Gefahrenquellen. Rezepte zum Mitnehmen und leichtes Nachmachen daheim garantiert. \nBitte feste Schuhe und kleine Dosen für Probierreste mitbringen ! \n\nAllgemeines: \nWorkshop mit Ivonne Stötzer und Axel Eichenseher\, Dauer inkl. gemeinsamen Essen 4 Std. d.h. von 9 – 13 Uhr / Kursgröße: 4-8 TeilnehmerInnen / Der Kurs findet ohne Eltern in der Praxis Stötzer in Krailing statt. \nNach der Anmeldung über den Anmeldebutton weiter unten wird eine automatische Empfangsbestätigung versandt. D.h. wird haben die Anmeldung erhalten. Ca. 2-3 Wochen vor dem Kochkurs melde ich mich per Email bei allen TeilnehmerInnen mit weiteren Infos etc. \nFür Rückfragen stehe ich Dir / Ihnen gerne unter 0171-4762948 (Handynr. Wilma Ruhs\, Kontaktperson der DZG Gruppe München) zur Verfügung. \nWir freuen uns auf dich\, Ivonne\, Axel und Wilma
URL:https://zoeliakie-muenchen.de/event/glutenfreies-kochen-theorie-praxis-fuer-jugendliche-4-6-klasse-240615/
LOCATION:Krailling\, Auenstraße 4a\, Krailling\, 82152\, Deutschland
CATEGORIES:Info & Beratung,Jugendliche,Kochen & Backen
ATTACH;FMTTYPE=image/jpeg:https://zoeliakie-muenchen.de/wp-content/uploads/2022/12/Kochen_Kinder_800_800.jpg
ORGANIZER;CN="Wilma Ruhs":MAILTO:w.ruhs@zoeliakie-suedbayern.de
END:VEVENT
BEGIN:VEVENT
DTSTART;TZID=Europe/Berlin:20240615T150000
DTEND;TZID=Europe/Berlin:20240615T190000
DTSTAMP:20260422T025100
CREATED:20240104T200103Z
LAST-MODIFIED:20240415T151559Z
UID:4509-1718463600-1718478000@zoeliakie-muenchen.de
SUMMARY:Glutenfreies Kochen - Theorie & Praxis für Jugendliche (ab 7. Klasse)
DESCRIPTION:Der Sommer steht vor der Tür ! \nDu brauchst Ideen\, Rezepte und Tipps rund um eine leckere\, erfolgreiche und glutenfreie Grillparty ? In unserem Kurs lernst du eigene Marinaden für Gemüse und Fleisch herzustellen und dies alles zu grillen. Wir bereiten Ofenkartoffeln mit Sour Creme / Guacamole und bunten Blattsalat mit selbstgemachtem Dressing zu. Als Nachspeise gibt es eine Erdbeertiramisu. Zur Erfrischung machen wir selbst Zitronenlimonade. \n\nAlles rund ums glutenfreie Kochen und das gemeinsame Essen wollen wir zusammen erkunden und somit dieses\, vielleicht manchmal schwierige und kräftezehrende Familienthema \, auf leichte Weise angehen. \nUnser Kochmotto: Wir können allein ganz viel\, aber im Team sind wir stärker ! Alle Ziele und Inhalte dienen dem Aufbau eines Netzwerks\, der Stärkung der Gemeinschaft und dem Austausch mit gleichaltrigen Betroffenen. \nZusätzlich erwartet dich: Training zum Lesen von Zutatenlisten\, Rezepten und Kennzeichnung von verpackten Nahrungsmitteln\, mit Hinblick auf die Diät (vorbereitet in der Praxis oder beim gemeinsamen Einkauf) . Stärkung des altersentsprechenden\, sicheren Umgangs mit der glutenfreien Diät nach den Leitlinien der DZG. Besprechung von Gefahrenquellen. Rezepte zum Mitnehmen und leichtes Nachmachen daheim garantiert. \nBitte feste Schuhe und kleine Dosen für Probierreste mitbringen ! \n\nAllgemeines: \nWorkshop mit Ivonne Stötzer und Axel Eichenseher\, Dauer inkl. gemeinsamen Essen 4 Std. d.h. von 9 – 13 Uhr / Kursgröße: 4-8 TeilnehmerInnen / Der Kurs findet ohne Eltern in der Praxis Stötzer in Krailing statt. \nNach der Anmeldung über den Anmeldebutton weiter unten wird eine automatische Empfangsbestätigung versandt. D.h. wird haben die Anmeldung erhalten. Ca. 2-3 Wochen vor dem Kochkurs melde ich mich per Email bei allen TeilnehmerInnen mit weiteren Infos etc. \nFür Rückfragen stehe ich Dir / Ihnen gerne unter 0171-4762948 (Handynr. Wilma Ruhs\, Kontaktperson der DZG Gruppe München) zur Verfügung. \nWir freuen uns auf dich\, Ivonne\, Axel und Wilma
URL:https://zoeliakie-muenchen.de/event/glutenfreies-kochen-theorie-praxis-fuer-jugendliche-ab-7-klasse-240615/
LOCATION:Krailling\, Auenstraße 4a\, Krailling\, 82152\, Deutschland
CATEGORIES:Info & Beratung,Jugendliche,Kochen & Backen
ATTACH;FMTTYPE=image/jpeg:https://zoeliakie-muenchen.de/wp-content/uploads/2022/12/Kochen_Jugendliche_800_800.jpg
ORGANIZER;CN="Wilma Ruhs":MAILTO:w.ruhs@zoeliakie-suedbayern.de
END:VEVENT
BEGIN:VEVENT
DTSTART;TZID=Europe/Berlin:20240616T090000
DTEND;TZID=Europe/Berlin:20240616T130000
DTSTAMP:20260422T025100
CREATED:20240104T195034Z
LAST-MODIFIED:20240415T151720Z
UID:4511-1718528400-1718542800@zoeliakie-muenchen.de
SUMMARY:Glutenfreies Kochen - Theorie & Praxis für GrundschülerInnen (1. - 3. Klasse)
DESCRIPTION:Der Sommer steht vor der Tür ! \nDu brauchst Ideen\, Rezepte und Tipps rund um eine leckere\, erfolgreiche und glutenfreie Grillparty ? In unserem Kurs lernst du eigene Marinaden für Gemüse und Fleisch herzustellen und dies alles zu grillen. Wir bereiten Ofenkartoffeln mit Sour Creme / Guacamole und bunten Blattsalat mit selbstgemachtem Dressing zu. Als Nachspeise gibt es eine Erdbeertiramisu. Zur Erfrischung machen wir selbst Zitronenlimonade. \n\nAlles rund ums glutenfreie Kochen und das gemeinsame Essen wollen wir zusammen erkunden und somit dieses\, vielleicht manchmal schwierige und kräftezehrende Familienthema \, auf leichte Weise angehen. \nUnser Kochmotto: Wir können allein ganz viel\, aber im Team sind wir stärker ! Alle Ziele und Inhalte dienen dem Aufbau eines Netzwerks\, der Stärkung der Gemeinschaft und dem Austausch mit gleichaltrigen Betroffenen. \nZusätzlich erwartet dich: Training zum Lesen von Zutatenlisten\, Rezepten und Kennzeichnung von verpackten Nahrungsmitteln\, mit Hinblick auf die Diät (vorbereitet in der Praxis oder beim gemeinsamen Einkauf) . Stärkung des altersentsprechenden\, sicheren Umgangs mit der glutenfreien Diät nach den Leitlinien der DZG. Besprechung von Gefahrenquellen. Rezepte zum Mitnehmen und leichtes Nachmachen daheim garantiert. \nBitte feste Schuhe und kleine Dosen für Probierreste mitbringen ! \n\nAllgemeines: \nWorkshop mit Ivonne Stötzer und Axel Eichenseher\, Dauer inkl. gemeinsamen Essen 4 Std. d.h. von 9 – 13 Uhr / Kursgröße: 4-8 TeilnehmerInnen / Der Kurs findet ohne Eltern in der Praxis Stötzer in Krailing statt. \nNach der Anmeldung über den Anmeldebutton weiter unten wird eine automatische Empfangsbestätigung versandt. D.h. wird haben die Anmeldung erhalten. Ca. 2-3 Wochen vor dem Kochkurs melde ich mich per Email bei allen TeilnehmerInnen mit weiteren Infos etc. \nFür Rückfragen stehe ich Dir / Ihnen gerne unter 0171-4762948 (Handynr. Wilma Ruhs\, Kontaktperson der DZG Gruppe München) zur Verfügung. \nWir freuen uns auf dich\, Ivonne\, Axel und Wilma
URL:https://zoeliakie-muenchen.de/event/glutenfreies-kochen-theorie-praxis-fuer-grundschuelerinnen-1-3-klasse-240616/
LOCATION:Krailling\, Auenstraße 4a\, Krailling\, 82152\, Deutschland
CATEGORIES:Info & Beratung,Kinder & Familien,Kochen & Backen
ATTACH;FMTTYPE=image/jpeg:https://zoeliakie-muenchen.de/wp-content/uploads/2022/12/Kochen_Kleinkinder_800_800.jpg
ORGANIZER;CN="Wilma Ruhs":MAILTO:w.ruhs@zoeliakie-suedbayern.de
END:VEVENT
BEGIN:VEVENT
DTSTART;TZID=Europe/Berlin:20240619T180000
DTEND;TZID=Europe/Berlin:20240619T210000
DTSTAMP:20260422T025100
CREATED:20240109T201512Z
LAST-MODIFIED:20240203T202637Z
UID:4685-1718820000-1718830800@zoeliakie-muenchen.de
SUMMARY:Zöliakie Stammtisch München
DESCRIPTION:Zöliakie Stammtisch für alle Betroffenen und deren Angehörige in München. Bitte melde uns deine Teilnahme an\, damit wir genügend Plätze sicherstellen können.
URL:https://zoeliakie-muenchen.de/event/zoeliakie-stammtisch-muenchen-240619/
LOCATION:Senso Ristorante\, Implerstraße 90\, München\, 81371\, Deutschland
CATEGORIES:Erwachsene,Stammtisch
ATTACH;FMTTYPE=image/jpeg:https://zoeliakie-muenchen.de/wp-content/uploads/2021/12/Muenchen_Frauenkirche_800_800.jpg
ORGANIZER;CN="Christa Porer":MAILTO:info@zoeliakie-suedbayern.de
END:VEVENT
BEGIN:VEVENT
DTSTART;TZID=Europe/Berlin:20240622T170000
DTEND;TZID=Europe/Berlin:20240622T200000
DTSTAMP:20260422T025100
CREATED:20240104T154537Z
LAST-MODIFIED:20240617T193646Z
UID:4369-1719075600-1719086400@zoeliakie-muenchen.de
SUMMARY:Glutenfrei-Treffen für Jugendliche: Keramik bemalen
DESCRIPTION:Unser glutenfeier Jugendtreff gibt allen Jugendlichen (13 – 18 Jahre) die Möglichkeit sich kennenzulernen und auszutauschen. Wir treffen uns gemeinsam in der Keramikwerkstatt „Paint your style“ zum gemeinsamen Gestalten\, Kennenlernen und Austauschen.
URL:https://zoeliakie-muenchen.de/event/glutenfrei-jugendtreffen-keramik-240622/
LOCATION:Paint your style\, Sonnenstraße 27\, München\, 80331
CATEGORIES:Aktivitäten,Jugendliche,Stammtisch
ATTACH;FMTTYPE=image/jpeg:https://zoeliakie-muenchen.de/wp-content/uploads/2024/01/Keramik_bemalen_800_800.jpg
ORGANIZER;CN="Alexander Ulbrich":MAILTO:a.ulbrich@zoeliakie-suedbayern.de
END:VEVENT
BEGIN:VEVENT
DTSTART;TZID=Europe/Berlin:20240623T100000
DTEND;TZID=Europe/Berlin:20240623T160000
DTSTAMP:20260422T025100
CREATED:20240108T202223Z
LAST-MODIFIED:20240509T202647Z
UID:4630-1719136800-1719158400@zoeliakie-muenchen.de
SUMMARY:Ausflug für Familien zur Kleinbucher Alm
DESCRIPTION:Ausflug für Familien mit Kindern zur Kleinbucher-Alm mit Einkehr zu glutenfreien bayerischen Schmankerln. \nWir laufen gemeinsam vom Parkplatz Klamm zur Kleinbucher Alm. Der Aufstieg dauert etwa eine Stunde und kann auch von Kindern bewältigt werden. Der Wanderweg ist für Kinderwagen nicht geeignet. Bitte festes Schuhwerk\, geeignete Laufkleidung und gegebenenfalls Sonnenschutz mitnehmen. \nGlutenfreies Essen \nAuf der Hütte gibt es glutenfreies Essen\, wir planen ein kleines Menü: \n\nVorspeise: Brotzeitschmankerl\nHauptspeise: Semmelknödel mit Schweinebraten / Rahmschwammerl\nNachspeise: Marillenknödel / Kaiserschmarrn\n\nPreis: 25 € für Erwachsene / 15 € für Kinder \nBitte die Teilnahme über die Anmeldung unten reservieren. Ihr bekommt dann im Anschluss zur Zahlung der Beiträge als Vorkasse. Erst danach ist die Anmeldung verbindlich. \nRoute für die den Aufstieg  \n\nTreffpunkt am Parkplatz Klamm  um 10.00 Uhr\nBeginn Aufstieg um 10.30 Uhr\n\n \n 
URL:https://zoeliakie-muenchen.de/event/ausflug-fuer-familien-zur-kleinbucher-alm-240623/
LOCATION:Kleinbucher Alm\, Kreuth\, 83708
CATEGORIES:Aktivitäten,Jugendliche,Kinder & Familien
ATTACH;FMTTYPE=image/jpeg:https://zoeliakie-muenchen.de/wp-content/uploads/2021/12/Alm_800_800.jpg
ORGANIZER;CN="Florian Rapp":MAILTO:f.rapp@zoeliakie-suedbayern.de
END:VEVENT
BEGIN:VEVENT
DTSTART;TZID=Europe/Berlin:20240628T190000
DTEND;TZID=Europe/Berlin:20240628T203000
DTSTAMP:20260422T025100
CREATED:20240104T203249Z
LAST-MODIFIED:20240104T203249Z
UID:4541-1719601200-1719606600@zoeliakie-muenchen.de
SUMMARY:Online-Austausch & Beratung für Eltern
DESCRIPTION:Fragen und Antworten mit erfahrenen Kontaktpersonen und Eltern untereinander zum Umgang mit von Zöliakie betroffenen Kindern. Der Link zum Termin wird vorab an die Teilnehmer zugesendet.
URL:https://zoeliakie-muenchen.de/event/online-austausch-beratung-fuer-eltern-240628/
LOCATION:Online
CATEGORIES:Info & Beratung,Kinder & Familien
ATTACH;FMTTYPE=image/jpeg:https://zoeliakie-muenchen.de/wp-content/uploads/2021/11/Neubetroffene_online_800_800.jpg
ORGANIZER;CN="Wilma Ruhs":MAILTO:w.ruhs@zoeliakie-suedbayern.de
END:VEVENT
BEGIN:VEVENT
DTSTART;TZID=Europe/Berlin:20240630T100000
DTEND;TZID=Europe/Berlin:20240630T140000
DTSTAMP:20260422T025100
CREATED:20240104T185259Z
LAST-MODIFIED:20240203T151452Z
UID:4490-1719741600-1719756000@zoeliakie-muenchen.de
SUMMARY:Rundwanderung & glutenfreies Picknick an den Ostersseen
DESCRIPTION:Lasst uns gemeinsam die traumhafte Kulisse rund um die Osterseen genießen mit Blick in die Berge\, über den Fohnsee und die Ostersseen. Die geplante Rundtour dauert ca. 1:45h und endet mit einem entspannten gemeinsamen glutenfreien Picknick. Das Buffet bietet\, was jeder mitbringt. Unser Motto „caring is sharing“. Während der Wanderung kann eine Beratung stattfinden. \nInfo’s zur Wanderung: \n\nLeichte Wanderung\nFür alle Fitnesslevel\nLeicht begehbare Wege (nicht für Kinderwägen geeignet)\nKein besonderes Können oder Ausstattung erforderlich\nDer Startpunkt der Tour ist mit öffentlichen Verkehrsmitteln erreichbar\nTreffpunkt: Bahnhof Iffeldorf\, Am Bahnhof 1\, 82393 Iffeldorf
URL:https://zoeliakie-muenchen.de/event/zoeliakie-wanderung-picknick-240630/
LOCATION:Bahnhof Iffeldorf\, Am Bahnhof 1\, Iffeldorf\, 82393\, Deutschland
CATEGORIES:Aktivitäten,Erwachsene,Jugendliche,Kinder & Familien
ATTACH;FMTTYPE=image/jpeg:https://zoeliakie-muenchen.de/wp-content/uploads/2024/01/Wandern_Gruppe_800_800.jpg
ORGANIZER;CN="Dominique Stellwag":MAILTO:d.stellwag@zoeliakie-suedbayern.de
END:VEVENT
BEGIN:VEVENT
DTSTART;TZID=Europe/Berlin:20240630T120000
DTEND;TZID=Europe/Berlin:20240630T150000
DTSTAMP:20260422T025100
CREATED:20240104T193222Z
LAST-MODIFIED:20240104T193244Z
UID:4500-1719748800-1719759600@zoeliakie-muenchen.de
SUMMARY:Zöliakie Stammtisch für Erwachsene
DESCRIPTION:Zöliakie Stammtisch mit Beratung für alle Betroffenen und Angehörige im Münchner Norden. Bitte melde uns deine Teilnahme an\, damit wir genügend Plätze sicherstellen können.
URL:https://zoeliakie-muenchen.de/event/zoeliakie-stammtisch-erwachsene-240630/
LOCATION:Pizzeria Le Vespe\, Marktplatz 21\, Neufahrn\, 85375\, Deutschland
CATEGORIES:Erwachsene,Stammtisch
ATTACH;FMTTYPE=image/jpeg:https://zoeliakie-muenchen.de/wp-content/uploads/2024/01/Pizzeria_800_800.jpg
ORGANIZER;CN="Manuela Bott":MAILTO:m.bott@zoeliakie-suedbayern.de
END:VEVENT
END:VCALENDAR