BEGIN:VCALENDAR
VERSION:2.0
PRODID:-//Zöliakie Selbsthilfegruppe Südbayern - ECPv6.15.14//NONSGML v1.0//EN
CALSCALE:GREGORIAN
METHOD:PUBLISH
X-WR-CALNAME:Zöliakie Selbsthilfegruppe Südbayern
X-ORIGINAL-URL:https://zoeliakie-muenchen.de
X-WR-CALDESC:Veranstaltungen für Zöliakie Selbsthilfegruppe Südbayern
REFRESH-INTERVAL;VALUE=DURATION:PT1H
X-Robots-Tag:noindex
X-PUBLISHED-TTL:PT1H
BEGIN:VTIMEZONE
TZID:Europe/Berlin
BEGIN:DAYLIGHT
TZOFFSETFROM:+0100
TZOFFSETTO:+0200
TZNAME:CEST
DTSTART:20230326T010000
END:DAYLIGHT
BEGIN:STANDARD
TZOFFSETFROM:+0200
TZOFFSETTO:+0100
TZNAME:CET
DTSTART:20231029T010000
END:STANDARD
BEGIN:DAYLIGHT
TZOFFSETFROM:+0100
TZOFFSETTO:+0200
TZNAME:CEST
DTSTART:20240331T010000
END:DAYLIGHT
BEGIN:STANDARD
TZOFFSETFROM:+0200
TZOFFSETTO:+0100
TZNAME:CET
DTSTART:20241027T010000
END:STANDARD
BEGIN:DAYLIGHT
TZOFFSETFROM:+0100
TZOFFSETTO:+0200
TZNAME:CEST
DTSTART:20250330T010000
END:DAYLIGHT
BEGIN:STANDARD
TZOFFSETFROM:+0200
TZOFFSETTO:+0100
TZNAME:CET
DTSTART:20251026T010000
END:STANDARD
END:VTIMEZONE
BEGIN:VEVENT
DTSTART;TZID=Europe/Berlin:20241006T120000
DTEND;TZID=Europe/Berlin:20241006T150000
DTSTAMP:20260421T211507
CREATED:20240108T213322Z
LAST-MODIFIED:20240108T213322Z
UID:4648-1728216000-1728226800@zoeliakie-muenchen.de
SUMMARY:Zöliakie Stammtisch für Familien
DESCRIPTION:Zöliakie Stammtisch für Familien mit betroffenen Kindern und Angehörigen. Wir picknicken gemeinsam im Hirschgarten\, jeder bringt sein eigenes Essen mit. Gerne Spielsachen\, Bälle etc. mitbringen. Bitte melde uns deine Teilnahme an\, damit wir genügend Plätze sicherstellen können.
URL:https://zoeliakie-muenchen.de/event/zoeliakie-stammtisch-fuer-familien-241006/
LOCATION:Biergarten Hirschgarte\, Hirschgarten 1\, München\, 80639\, Deutschland
CATEGORIES:Kinder & Familien,Stammtisch
ATTACH;FMTTYPE=image/jpeg:https://zoeliakie-muenchen.de/wp-content/uploads/2021/11/Biergarten_800_800.jpg
ORGANIZER;CN="Florian Rapp":MAILTO:f.rapp@zoeliakie-suedbayern.de
END:VEVENT
BEGIN:VEVENT
DTSTART;TZID=Europe/Berlin:20241009T180000
DTEND;TZID=Europe/Berlin:20241009T210000
DTSTAMP:20260421T211507
CREATED:20240104T161015Z
LAST-MODIFIED:20240104T161015Z
UID:4413-1728496800-1728507600@zoeliakie-muenchen.de
SUMMARY:Zöliakie Stammtisch Tegernsee
DESCRIPTION:Zöliakie Stammtisch für alle Betroffenen und Angehörige im südlichen Münchner Umland und der Region Tegernsee.Bitte melde uns deine Teilnahme an\, damit wir genügend Plätze sicherstellen können.
URL:https://zoeliakie-muenchen.de/event/zoeliakie-stammtisch-tegernsee-241009/
LOCATION:Restaurant Luna Rossa\, Münchner Straße 138\, Gmund\, Bayern\, 83703
CATEGORIES:Erwachsene,Stammtisch
ATTACH;FMTTYPE=image/jpeg:https://zoeliakie-muenchen.de/wp-content/uploads/2021/12/Stammtisch_800_800.jpg
ORGANIZER;CN="Christa Porer":MAILTO:c.porer@zoeliakie-suedbayern.de
END:VEVENT
BEGIN:VEVENT
DTSTART;TZID=Europe/Berlin:20241012T100000
DTEND;TZID=Europe/Berlin:20241012T160000
DTSTAMP:20260421T211507
CREATED:20240104T204951Z
LAST-MODIFIED:20241001T180424Z
UID:4545-1728727200-1728748800@zoeliakie-muenchen.de
SUMMARY:Zöli-Tipps und -Tricks:"Wie komme ich stark durch meinen Alltag!" - Workshop Teenager (m\, w\, d) inkl. gemeinsamen Mittagessen in einem Restaurant
DESCRIPTION:! Achtung – der Workshop ist aufgrund von nicht erreichen der Mindestteilnehmer ABGESAGT ! \nKennst du diese Situationen ?: \n\n„Jetzt stell Dich doch nicht so an\, das bißchen Gluten verträgst Du schon.“\n„Jetzt hat die/der schon wieder einen Sonderwunsch. Die /der ist echt anstrengend!“\n„Die/der traut sich einfach nicht Bier zu trinken. Was für ´ne Memme!“\nDie Servicekraft im Restaurant: „Ich glaube da ist kein Gluten enthalten.“\n„Manchmal habe ich das Gefühl\, ich komme von einem anderen Stern. Alle können normal essen\, nur ich muss ständig aufpassen und Nein sagen“.\n\nEs gibt jede Menge Situationen\, die Dich verunsichern und die Du jeden Tag meisterst. Essen ist Spass. Essen ist Lebensqualität. Und es ist eine Notwendigkeit. Unser Körper braucht Nahrung und Flüssigkeit zum Leben. Die Körpersignale Hunger und Sättigung steuern\, wann Du Nahrung brauchst und wann es genug ist. Aber unser Körper sagt uns leider nicht\, welche Nahrungsmittel glutenhaltig sind oder wie Du Dich verhältst\, wenn Du verunsichert bist. \nWir treffen uns in einer Gruppe mit Jugendlichen\, die diese Situation kennen. In der Gruppe darfst Du Fragen stellen\, von Deinen Erfolgen oder Frustrationen erzählen oder auch einfach nur zuhören. Du bekommst auch ein Gefühl\, wie andere mit dem Thema umgehen. Und wir können auch leckere\, glutenfreie Ideen austauschen. \nZielgruppe \nAlle Teenager ( m\,w\,d ) im Alter von 13-17 Jahren\, die mit einer glutenfreien Ernährung bereits vertraut sind und diese im Grundsatz akzeptieren \nHighlight: \nGemeinsames Mittagessen in einem Restaurant. Wie gehe ich mit dieser herausfordernden Situation um ? Welches Gericht suche ich mir aus ? Wie kann ich sicher sein\, dass mein Essen glutenfrei ist. \nAllgemeines: \nWorkshop mit Dr. Andrea Feussner\, Ernährungstherapie und -beratung aus München. Geplante Dauer inkl. Restaurantbesuch 6 Std. / Kursgröße: max. 10 Teilnehmer ( m\,w\,d ) \nDie Anmeldung ist ab Juli 2024 möglich. \nFür Rückfragen stehe ich Dir / Ihnen gerne unter 0171-4762948 (Handynr. Wilma Ruhs\, Kontaktperson der DZG Gruppe München) zur Verfügung. \nWir freuen uns auf Dich\, \nliebe Grüße Andrea und Wilma
URL:https://zoeliakie-muenchen.de/event/zoeli-tipps-und-tricks-workshop-teenager-13-17-jahre-241012/
LOCATION:Selbsthilfezentrum München\, Westendstraße 68\, München\, 80339\, Deutschland
CATEGORIES:Info & Beratung,Jugendliche
ATTACH;FMTTYPE=image/jpeg:https://zoeliakie-muenchen.de/wp-content/uploads/2021/12/Teenager_800_800.jpg
ORGANIZER;CN="Wilma Ruhs":MAILTO:w.ruhs@zoeliakie-suedbayern.de
END:VEVENT
BEGIN:VEVENT
DTSTART;TZID=Europe/Berlin:20241016T180000
DTEND;TZID=Europe/Berlin:20241016T210000
DTSTAMP:20260421T211507
CREATED:20240109T202040Z
LAST-MODIFIED:20240203T203208Z
UID:4677-1729101600-1729112400@zoeliakie-muenchen.de
SUMMARY:Zöliakie Stammtisch München
DESCRIPTION:Zöliakie Stammtisch für alle Betroffenen und deren Angehörige in München. Bitte melde uns deine Teilnahme an\, damit wir genügend Plätze sicherstellen können.
URL:https://zoeliakie-muenchen.de/event/zoeliakie-stammtisch-muenchen-241016/
LOCATION:Senso Ristorante\, Implerstraße 90\, München\, 81371\, Deutschland
CATEGORIES:Erwachsene,Stammtisch
ATTACH;FMTTYPE=image/jpeg:https://zoeliakie-muenchen.de/wp-content/uploads/2021/12/Muenchen_Frauenkirche_800_800.jpg
ORGANIZER;CN="Christa Porer":MAILTO:c.porer@zoeliakie-suedbayern.de
END:VEVENT
BEGIN:VEVENT
DTSTART;TZID=Europe/Berlin:20241024T190000
DTEND;TZID=Europe/Berlin:20241024T220000
DTSTAMP:20260421T211507
CREATED:20240104T144335Z
LAST-MODIFIED:20241017T192717Z
UID:4351-1729796400-1729807200@zoeliakie-muenchen.de
SUMMARY:Glutenfree Meetup
DESCRIPTION:Glutenfree Meetup wird ein Stammtisch-Äquivalent für junge Erwachsene (>18J). Die Aktivitäten reichen von Restaurant- / Barbesuchen bis hin zu Kombinationen mit Spieleabenden. Der gemeinsame Nenner ist der ungezwungene Austausch zwischen jungen erwachsenen Zöliakiebetroffenen.
URL:https://zoeliakie-muenchen.de/event/glutenfree-meetup-241024/
LOCATION:Wirtshaus am Bavariapark\, Theresienhöhe 15\, München\, 80339
CATEGORIES:Erwachsene,Jugendliche,Stammtisch
ATTACH;FMTTYPE=image/jpeg:https://zoeliakie-muenchen.de/wp-content/uploads/2024/01/Junge_Erwachsene_800_800.jpg
ORGANIZER;CN="Alexander Ulbrich":MAILTO:a.ulbrich@zoeliakie-suedbayern.de
END:VEVENT
END:VCALENDAR