BEGIN:VCALENDAR
VERSION:2.0
PRODID:-//Zöliakie Selbsthilfegruppe Südbayern - ECPv6.15.14//NONSGML v1.0//EN
CALSCALE:GREGORIAN
METHOD:PUBLISH
X-ORIGINAL-URL:https://zoeliakie-muenchen.de
X-WR-CALDESC:Veranstaltungen für Zöliakie Selbsthilfegruppe Südbayern
REFRESH-INTERVAL;VALUE=DURATION:PT1H
X-Robots-Tag:noindex
X-PUBLISHED-TTL:PT1H
BEGIN:VTIMEZONE
TZID:Europe/Berlin
BEGIN:DAYLIGHT
TZOFFSETFROM:+0100
TZOFFSETTO:+0200
TZNAME:CEST
DTSTART:20240331T010000
END:DAYLIGHT
BEGIN:STANDARD
TZOFFSETFROM:+0200
TZOFFSETTO:+0100
TZNAME:CET
DTSTART:20241027T010000
END:STANDARD
BEGIN:DAYLIGHT
TZOFFSETFROM:+0100
TZOFFSETTO:+0200
TZNAME:CEST
DTSTART:20250330T010000
END:DAYLIGHT
BEGIN:STANDARD
TZOFFSETFROM:+0200
TZOFFSETTO:+0100
TZNAME:CET
DTSTART:20251026T010000
END:STANDARD
BEGIN:DAYLIGHT
TZOFFSETFROM:+0100
TZOFFSETTO:+0200
TZNAME:CEST
DTSTART:20260329T010000
END:DAYLIGHT
BEGIN:STANDARD
TZOFFSETFROM:+0200
TZOFFSETTO:+0100
TZNAME:CET
DTSTART:20261025T010000
END:STANDARD
END:VTIMEZONE
BEGIN:VEVENT
DTSTART;TZID=Europe/Berlin:20250212T180000
DTEND;TZID=Europe/Berlin:20250212T210000
DTSTAMP:20260421T150243
CREATED:20250105T074445Z
LAST-MODIFIED:20250105T074445Z
UID:5635-1739383200-1739394000@zoeliakie-muenchen.de
SUMMARY:Zöliakie Stammtisch Tegernsee
DESCRIPTION:Zöliakie Stammtisch für alle Betroffenen und Angehörige im südlichen Münchner Umland und der Region Tegernsee.Bitte melde uns deine Teilnahme an\, damit wir genügend Plätze sicherstellen können.
URL:https://zoeliakie-muenchen.de/event/zoeliakie-stammtisch-tegernsee-250212/
LOCATION:Restaurant Luna Rossa\, Münchner Straße 138\, Gmund\, Bayern\, 83703
CATEGORIES:Erwachsene,Stammtisch
ATTACH;FMTTYPE=image/jpeg:https://zoeliakie-muenchen.de/wp-content/uploads/2021/12/Stammtisch_800_800.jpg
END:VEVENT
BEGIN:VEVENT
DTSTART;TZID=Europe/Berlin:20250219T180000
DTEND;TZID=Europe/Berlin:20250219T210000
DTSTAMP:20260421T150244
CREATED:20250102T225808Z
LAST-MODIFIED:20250102T225808Z
UID:5537-1739988000-1739998800@zoeliakie-muenchen.de
SUMMARY:Zöliakie Stammtisch München
DESCRIPTION:Zöliakie Stammtisch mit Beratung für alle Betroffenen und deren Angehörige in München. Bitte melde uns deine Teilnahme an\, damit wir genügend Plätze sicherstellen können.
URL:https://zoeliakie-muenchen.de/event/zoeliakie-stammtisch-muenchen-250219/
LOCATION:Senso Ristorante\, Implerstraße 90\, München\, 81371\, Deutschland
CATEGORIES:Erwachsene,Stammtisch
ATTACH;FMTTYPE=image/jpeg:https://zoeliakie-muenchen.de/wp-content/uploads/2021/12/Muenchen_Frauenkirche_800_800.jpg
ORGANIZER;CN="Jutta Hain":MAILTO:j.hain@zoeliakie-suedbayern.de
END:VEVENT
BEGIN:VEVENT
DTSTART;TZID=Europe/Berlin:20250220T190000
DTEND;TZID=Europe/Berlin:20250220T220000
DTSTAMP:20260421T150244
CREATED:20250102T205240Z
LAST-MODIFIED:20250102T205240Z
UID:5431-1740078000-1740088800@zoeliakie-muenchen.de
SUMMARY:Glutenfree Meetup
DESCRIPTION:Glutenfreier Stammtisch für junge Erwachsene. Nehmt auch gerne Freunde / Angehörige mit!
URL:https://zoeliakie-muenchen.de/event/glutenfree-meetup-250220/
LOCATION:Pizzeria La Fantasia\, Seeriederstraße 5\, München\, 81675
CATEGORIES:Erwachsene,Jugendliche,Stammtisch
ATTACH;FMTTYPE=image/jpeg:https://zoeliakie-muenchen.de/wp-content/uploads/2024/01/Junge_Erwachsene_800_800.jpg
ORGANIZER;CN="Alexander Ulbrich":MAILTO:a.ulbrich@zoeliakie-suedbayern.de
END:VEVENT
BEGIN:VEVENT
DTSTART;TZID=Europe/Berlin:20250222T100000
DTEND;TZID=Europe/Berlin:20250222T120000
DTSTAMP:20260421T150244
CREATED:20250104T064531Z
LAST-MODIFIED:20250112T190011Z
UID:5495-1740218400-1740225600@zoeliakie-muenchen.de
SUMMARY:Glutenfreies Einkaufen: Verkaufsoffener Samstag bei glutenfreigeniessen
DESCRIPTION:Glutenfreigeniessen öffnet für uns am Samstag seine Pforten zum Lagerverkauf. So kann sich jeder aus dem großen Sortiment seine Lieblingsprodukte einpacken und neue finden. Und als wäre das nicht genug gibt es 10% Rabatt auf den Einkauf. \nAblauf: \n\n10:00 Uhr: Ankommen\n10:15 Uhr: „Führung“ durchs Sortiment\, gfs. Beantwortung von Fragen\n10:45 – 12:00 Uhr Einkauf\n\n  \nZusätzliche Infos: \n\nParkplätze vor Ort am Bahnhof\nBezahlmöglichkeiten Bar und EC-Karte (keine Kreditkarten). Barzahlung bevorzugt aufgrund geringer Anzahl von EC-Lesegeräten\n\n 
URL:https://zoeliakie-muenchen.de/event/verkaufsoffener-samstag-glutenfreigeniessen-250222/
LOCATION:GlutenfreiGeniessen Sauerlach\, Daimlerstraße 5\, Sauerlach\, 82054\, Germany
CATEGORIES:Aktivitäten,Erwachsene,Jugendliche,Kinder & Familien
ATTACH;FMTTYPE=image/jpeg:https://zoeliakie-muenchen.de/wp-content/uploads/2025/01/Einkaufen_800_800.jpg
ORGANIZER;CN="Florian Rapp":MAILTO:f.rapp@zoeliakie-suedbayern.de
END:VEVENT
END:VCALENDAR