BEGIN:VCALENDAR
VERSION:2.0
PRODID:-//Zöliakie Selbsthilfegruppe Südbayern - ECPv6.15.14//NONSGML v1.0//EN
CALSCALE:GREGORIAN
METHOD:PUBLISH
X-WR-CALNAME:Zöliakie Selbsthilfegruppe Südbayern
X-ORIGINAL-URL:https://zoeliakie-muenchen.de
X-WR-CALDESC:Veranstaltungen für Zöliakie Selbsthilfegruppe Südbayern
REFRESH-INTERVAL;VALUE=DURATION:PT1H
X-Robots-Tag:noindex
X-PUBLISHED-TTL:PT1H
BEGIN:VTIMEZONE
TZID:Europe/Berlin
BEGIN:DAYLIGHT
TZOFFSETFROM:+0100
TZOFFSETTO:+0200
TZNAME:CEST
DTSTART:20210328T010000
END:DAYLIGHT
BEGIN:STANDARD
TZOFFSETFROM:+0200
TZOFFSETTO:+0100
TZNAME:CET
DTSTART:20211031T010000
END:STANDARD
BEGIN:DAYLIGHT
TZOFFSETFROM:+0100
TZOFFSETTO:+0200
TZNAME:CEST
DTSTART:20220327T010000
END:DAYLIGHT
BEGIN:STANDARD
TZOFFSETFROM:+0200
TZOFFSETTO:+0100
TZNAME:CET
DTSTART:20221030T010000
END:STANDARD
BEGIN:DAYLIGHT
TZOFFSETFROM:+0100
TZOFFSETTO:+0200
TZNAME:CEST
DTSTART:20230326T010000
END:DAYLIGHT
BEGIN:STANDARD
TZOFFSETFROM:+0200
TZOFFSETTO:+0100
TZNAME:CET
DTSTART:20231029T010000
END:STANDARD
END:VTIMEZONE
BEGIN:VEVENT
DTSTART;TZID=Europe/Berlin:20220320T120000
DTEND;TZID=Europe/Berlin:20220320T150000
DTSTAMP:20260419T163936
CREATED:20211205T070256Z
LAST-MODIFIED:20211212T203836Z
UID:2221-1647777600-1647788400@zoeliakie-muenchen.de
SUMMARY:Zöliakie Stammtisch für Familien
DESCRIPTION:Zöliakie Stammtisch für Familien mit betroffenen Kindern und Angehörigen.Bitte melde uns deine Teilnahme an\, damit wir genügend Plätze sicherstellen können.
URL:https://zoeliakie-muenchen.de/event/zoeliakie-stammtisch-familien-muenchen-22-03-20/
LOCATION:LAG Selbsthilfe Bayern\, Orleansplatz 3 \, München\, LAG Selbsthilfe Bayern\, Orleansplatz 3\, München\, Deutschland
CATEGORIES:Kinder & Familien,Stammtisch
ATTACH;FMTTYPE=image/jpeg:https://zoeliakie-muenchen.de/wp-content/uploads/2021/12/Kind_essen_800_800.jpg
ORGANIZER;CN="Wilma Ruhs":MAILTO:w.ruhs@zoeliakie-suedbayern.de
END:VEVENT
END:VCALENDAR